BEGIN:VCALENDAR
VERSION:2.0
PRODID:-//ONeill Center - ECPv6.15.20//NONSGML v1.0//EN
CALSCALE:GREGORIAN
METHOD:PUBLISH
X-WR-CALNAME:ONeill Center
X-ORIGINAL-URL:https://oneillcenter.com
X-WR-CALDESC:Events for ONeill Center
REFRESH-INTERVAL;VALUE=DURATION:PT1H
X-Robots-Tag:noindex
X-PUBLISHED-TTL:PT1H
BEGIN:VTIMEZONE
TZID:America/New_York
BEGIN:DAYLIGHT
TZOFFSETFROM:-0500
TZOFFSETTO:-0400
TZNAME:EDT
DTSTART:20240310T070000
END:DAYLIGHT
BEGIN:STANDARD
TZOFFSETFROM:-0400
TZOFFSETTO:-0500
TZNAME:EST
DTSTART:20241103T060000
END:STANDARD
BEGIN:DAYLIGHT
TZOFFSETFROM:-0500
TZOFFSETTO:-0400
TZNAME:EDT
DTSTART:20250309T070000
END:DAYLIGHT
BEGIN:STANDARD
TZOFFSETFROM:-0400
TZOFFSETTO:-0500
TZNAME:EST
DTSTART:20251102T060000
END:STANDARD
BEGIN:DAYLIGHT
TZOFFSETFROM:-0500
TZOFFSETTO:-0400
TZNAME:EDT
DTSTART:20260308T070000
END:DAYLIGHT
BEGIN:STANDARD
TZOFFSETFROM:-0400
TZOFFSETTO:-0500
TZNAME:EST
DTSTART:20261101T060000
END:STANDARD
END:VTIMEZONE
BEGIN:VEVENT
DTSTART;TZID=America/New_York:20250708T130000
DTEND;TZID=America/New_York:20250708T130000
DTSTAMP:20260421T184806
CREATED:20250520T144517Z
LAST-MODIFIED:20250520T144517Z
UID:10010843-1751979600-1751979600@oneillcenter.com
SUMMARY:Knot Just Knitting
DESCRIPTION:
URL:https://oneillcenter.com/event/knot-just-knitting-44/
CATEGORIES:Marietta
END:VEVENT
BEGIN:VEVENT
DTSTART;TZID=America/New_York:20250708T123000
DTEND;TZID=America/New_York:20250708T123000
DTSTAMP:20260421T184806
CREATED:20250520T144504Z
LAST-MODIFIED:20250520T144504Z
UID:10010840-1751977800-1751977800@oneillcenter.com
SUMMARY:Beginner Knitting
DESCRIPTION:
URL:https://oneillcenter.com/event/beginner-knitting-10/
CATEGORIES:Marietta
END:VEVENT
BEGIN:VEVENT
DTSTART;TZID=America/New_York:20250708T120000
DTEND;TZID=America/New_York:20250708T120000
DTSTAMP:20260421T184806
CREATED:20250520T144504Z
LAST-MODIFIED:20250520T144504Z
UID:10010841-1751976000-1751976000@oneillcenter.com
SUMMARY:Bridge
DESCRIPTION:
URL:https://oneillcenter.com/event/bridge-173/
CATEGORIES:Marietta
END:VEVENT
BEGIN:VEVENT
DTSTART;TZID=America/New_York:20250708T100000
DTEND;TZID=America/New_York:20250708T100000
DTSTAMP:20260421T184806
CREATED:20250520T144517Z
LAST-MODIFIED:20250520T144517Z
UID:10010844-1751968800-1751968800@oneillcenter.com
SUMMARY:Mani/Pedi's
DESCRIPTION:
URL:https://oneillcenter.com/event/mani-pedis-70/
CATEGORIES:Marietta
END:VEVENT
BEGIN:VEVENT
DTSTART;TZID=America/New_York:20250708T100000
DTEND;TZID=America/New_York:20250708T100000
DTSTAMP:20260421T184806
CREATED:20250520T144505Z
LAST-MODIFIED:20250520T144505Z
UID:10010842-1751968800-1751968800@oneillcenter.com
SUMMARY:Gentle Yoga
DESCRIPTION:
URL:https://oneillcenter.com/event/gentle-yoga-165/
CATEGORIES:Marietta
END:VEVENT
BEGIN:VEVENT
DTSTART;TZID=America/New_York:20250707T180000
DTEND;TZID=America/New_York:20250707T180000
DTSTAMP:20260421T184806
CREATED:20250520T144448Z
LAST-MODIFIED:20250520T144448Z
UID:10010837-1751911200-1751911200@oneillcenter.com
SUMMARY:Stampin' Up
DESCRIPTION:
URL:https://oneillcenter.com/event/stampin-up-27/
CATEGORIES:Marietta
END:VEVENT
BEGIN:VEVENT
DTSTART;TZID=America/New_York:20250707T130000
DTEND;TZID=America/New_York:20250707T130000
DTSTAMP:20260421T184806
CREATED:20250520T144448Z
LAST-MODIFIED:20250520T144448Z
UID:10010836-1751893200-1751893200@oneillcenter.com
SUMMARY:Painting with Joyce
DESCRIPTION:
URL:https://oneillcenter.com/event/painting-with-joyce-19/
CATEGORIES:Marietta
END:VEVENT
BEGIN:VEVENT
DTSTART;TZID=America/New_York:20250707T111500
DTEND;TZID=America/New_York:20250707T111500
DTSTAMP:20260421T184806
CREATED:20250520T144503Z
LAST-MODIFIED:20250520T144503Z
UID:10010838-1751886900-1751886900@oneillcenter.com
SUMMARY:Zumba
DESCRIPTION:
URL:https://oneillcenter.com/event/zumba-534/
CATEGORIES:Marietta
END:VEVENT
BEGIN:VEVENT
DTSTART;TZID=America/New_York:20250707T100000
DTEND;TZID=America/New_York:20250707T100000
DTSTAMP:20260421T184806
CREATED:20250520T144448Z
LAST-MODIFIED:20250520T144448Z
UID:10010835-1751882400-1751882400@oneillcenter.com
SUMMARY:Chair Exercise
DESCRIPTION:
URL:https://oneillcenter.com/event/chair-exercise-560/
CATEGORIES:Marietta
END:VEVENT
BEGIN:VEVENT
DTSTART;TZID=America/New_York:20250704T000000
DTEND;TZID=America/New_York:20250704T000000
DTSTAMP:20260421T184806
CREATED:20250520T144447Z
LAST-MODIFIED:20250520T144447Z
UID:10010834-1751587200-1751587200@oneillcenter.com
SUMMARY:CLOSED HOLIDAY
DESCRIPTION:
URL:https://oneillcenter.com/event/closed-holiday-3/
CATEGORIES:Marietta
END:VEVENT
BEGIN:VEVENT
DTSTART;TZID=America/New_York:20250703T173000
DTEND;TZID=America/New_York:20250703T173000
DTSTAMP:20260421T184806
CREATED:20250520T144447Z
LAST-MODIFIED:20250520T144447Z
UID:10010833-1751563800-1751563800@oneillcenter.com
SUMMARY:Zumba
DESCRIPTION:
URL:https://oneillcenter.com/event/zumba-533/
CATEGORIES:Marietta
END:VEVENT
BEGIN:VEVENT
DTSTART;TZID=America/New_York:20250703T130000
DTEND;TZID=America/New_York:20250703T130000
DTSTAMP:20260421T184806
CREATED:20250520T144433Z
LAST-MODIFIED:20250520T144433Z
UID:10010831-1751547600-1751547600@oneillcenter.com
SUMMARY:Independence Day Party
DESCRIPTION:
URL:https://oneillcenter.com/event/independence-day-party/
CATEGORIES:Marietta
END:VEVENT
BEGIN:VEVENT
DTSTART;TZID=America/New_York:20250703T130000
DTEND;TZID=America/New_York:20250703T130000
DTSTAMP:20260421T184806
CREATED:20250520T144433Z
LAST-MODIFIED:20250520T144433Z
UID:10010830-1751547600-1751547600@oneillcenter.com
SUMMARY:Hand and Foot
DESCRIPTION:
URL:https://oneillcenter.com/event/hand-and-foot-135/
CATEGORIES:Marietta
END:VEVENT
BEGIN:VEVENT
DTSTART;TZID=America/New_York:20250703T093000
DTEND;TZID=America/New_York:20250703T093000
DTSTAMP:20260421T184806
CREATED:20250520T144432Z
LAST-MODIFIED:20250520T144432Z
UID:10010828-1751535000-1751535000@oneillcenter.com
SUMMARY:Bingo
DESCRIPTION:
URL:https://oneillcenter.com/event/bingo-172/
CATEGORIES:Marietta
END:VEVENT
BEGIN:VEVENT
DTSTART;TZID=America/New_York:20250703T090000
DTEND;TZID=America/New_York:20250703T090000
DTSTAMP:20260421T184806
CREATED:20250520T144433Z
LAST-MODIFIED:20250520T144433Z
UID:10010832-1751533200-1751533200@oneillcenter.com
SUMMARY:Men's Billiard Tournament
DESCRIPTION:
URL:https://oneillcenter.com/event/mens-billiard-tournament-79/
CATEGORIES:Marietta
END:VEVENT
BEGIN:VEVENT
DTSTART;TZID=America/New_York:20250703T083000
DTEND;TZID=America/New_York:20250703T083000
DTSTAMP:20260421T184806
CREATED:20250520T144432Z
LAST-MODIFIED:20250520T144432Z
UID:10010829-1751531400-1751531400@oneillcenter.com
SUMMARY:Blood Pressure\, Blood Sugar Checks
DESCRIPTION:
URL:https://oneillcenter.com/event/blood-pressure-blood-sugar-checks-5/
CATEGORIES:Marietta
END:VEVENT
BEGIN:VEVENT
DTSTART;TZID=America/New_York:20250702T173000
DTEND;TZID=America/New_York:20250702T173000
DTSTAMP:20260421T184806
CREATED:20250520T144418Z
LAST-MODIFIED:20250520T144418Z
UID:10010827-1751477400-1751477400@oneillcenter.com
SUMMARY:Zumba
DESCRIPTION:
URL:https://oneillcenter.com/event/zumba-532/
CATEGORIES:Marietta
END:VEVENT
BEGIN:VEVENT
DTSTART;TZID=America/New_York:20250702T143000
DTEND;TZID=America/New_York:20250702T143000
DTSTAMP:20260421T184806
CREATED:20250520T144405Z
LAST-MODIFIED:20250520T144405Z
UID:10010821-1751466600-1751466600@oneillcenter.com
SUMMARY:Advanced Tai Chi
DESCRIPTION:
URL:https://oneillcenter.com/event/advanced-tai-chi-50/
CATEGORIES:Marietta
END:VEVENT
BEGIN:VEVENT
DTSTART;TZID=America/New_York:20250702T133000
DTEND;TZID=America/New_York:20250702T133000
DTSTAMP:20260421T184806
CREATED:20250520T144405Z
LAST-MODIFIED:20250520T144405Z
UID:10010822-1751463000-1751463000@oneillcenter.com
SUMMARY:Beginner Tai Chi
DESCRIPTION:
URL:https://oneillcenter.com/event/beginner-tai-chi-146/
CATEGORIES:Marietta
END:VEVENT
BEGIN:VEVENT
DTSTART;TZID=America/New_York:20250702T130000
DTEND;TZID=America/New_York:20250702T130000
DTSTAMP:20260421T184806
CREATED:20250520T144418Z
LAST-MODIFIED:20250520T144418Z
UID:10010826-1751461200-1751461200@oneillcenter.com
SUMMARY:Seed Bombs
DESCRIPTION:
URL:https://oneillcenter.com/event/seed-bombs/
CATEGORIES:Marietta
END:VEVENT
BEGIN:VEVENT
DTSTART;TZID=America/New_York:20250702T120000
DTEND;TZID=America/New_York:20250702T120000
DTSTAMP:20260421T184806
CREATED:20250520T144418Z
LAST-MODIFIED:20250520T144418Z
UID:10010825-1751457600-1751457600@oneillcenter.com
SUMMARY:Monthly B-day Party
DESCRIPTION:
URL:https://oneillcenter.com/event/monthly-b-day-party-15/
CATEGORIES:Marietta
END:VEVENT
BEGIN:VEVENT
DTSTART;TZID=America/New_York:20250702T120000
DTEND;TZID=America/New_York:20250702T120000
DTSTAMP:20260421T184806
CREATED:20250520T144417Z
LAST-MODIFIED:20250520T144417Z
UID:10010824-1751457600-1751457600@oneillcenter.com
SUMMARY:Euchre
DESCRIPTION:
URL:https://oneillcenter.com/event/euchre-169/
CATEGORIES:Marietta
END:VEVENT
BEGIN:VEVENT
DTSTART;TZID=America/New_York:20250702T100000
DTEND;TZID=America/New_York:20250702T100000
DTSTAMP:20260421T184806
CREATED:20250520T144417Z
LAST-MODIFIED:20250520T144417Z
UID:10010823-1751450400-1751450400@oneillcenter.com
SUMMARY:Chair Volleyball
DESCRIPTION:
URL:https://oneillcenter.com/event/chair-volleyball-533/
CATEGORIES:Marietta
END:VEVENT
BEGIN:VEVENT
DTSTART;TZID=America/New_York:20250701T173000
DTEND;TZID=America/New_York:20250701T173000
DTSTAMP:20260421T184806
CREATED:20250520T144405Z
LAST-MODIFIED:20250520T144405Z
UID:10010820-1751391000-1751391000@oneillcenter.com
SUMMARY:Zumba
DESCRIPTION:
URL:https://oneillcenter.com/event/zumba-531/
CATEGORIES:Marietta
END:VEVENT
BEGIN:VEVENT
DTSTART;TZID=America/New_York:20250701T150000
DTEND;TZID=America/New_York:20250701T150000
DTSTAMP:20260421T184806
CREATED:20250520T144358Z
LAST-MODIFIED:20250520T144358Z
UID:10010813-1751382000-1751382000@oneillcenter.com
SUMMARY:Ball Room Dancing with John & Kate
DESCRIPTION:
URL:https://oneillcenter.com/event/ball-room-dancing-with-john-kate-9/
CATEGORIES:Marietta
END:VEVENT
BEGIN:VEVENT
DTSTART;TZID=America/New_York:20250701T130000
DTEND;TZID=America/New_York:20250701T130000
DTSTAMP:20260421T184806
CREATED:20250520T144403Z
LAST-MODIFIED:20250520T144403Z
UID:10010818-1751374800-1751374800@oneillcenter.com
SUMMARY:Knot Just Knitting
DESCRIPTION:
URL:https://oneillcenter.com/event/knot-just-knitting-43/
CATEGORIES:Marietta
END:VEVENT
BEGIN:VEVENT
DTSTART;TZID=America/New_York:20250701T123000
DTEND;TZID=America/New_York:20250701T123000
DTSTAMP:20260421T184806
CREATED:20250520T144359Z
LAST-MODIFIED:20250520T144359Z
UID:10010814-1751373000-1751373000@oneillcenter.com
SUMMARY:Beginner Knitting
DESCRIPTION:
URL:https://oneillcenter.com/event/beginner-knitting-9/
CATEGORIES:Marietta
END:VEVENT
BEGIN:VEVENT
DTSTART;TZID=America/New_York:20250701T120000
DTEND;TZID=America/New_York:20250701T120000
DTSTAMP:20260421T184806
CREATED:20250520T144400Z
LAST-MODIFIED:20250520T144400Z
UID:10010817-1751371200-1751371200@oneillcenter.com
SUMMARY:Hearing Aid Cleaning
DESCRIPTION:
URL:https://oneillcenter.com/event/hearing-aid-cleaning-20/
CATEGORIES:Marietta
END:VEVENT
BEGIN:VEVENT
DTSTART;TZID=America/New_York:20250701T120000
DTEND;TZID=America/New_York:20250701T120000
DTSTAMP:20260421T184806
CREATED:20250520T144359Z
LAST-MODIFIED:20250520T144359Z
UID:10010815-1751371200-1751371200@oneillcenter.com
SUMMARY:Bridge
DESCRIPTION:
URL:https://oneillcenter.com/event/bridge-172/
CATEGORIES:Marietta
END:VEVENT
BEGIN:VEVENT
DTSTART;TZID=America/New_York:20250701T100000
DTEND;TZID=America/New_York:20250701T100000
DTSTAMP:20260421T184806
CREATED:20250520T144359Z
LAST-MODIFIED:20250520T144359Z
UID:10010816-1751364000-1751364000@oneillcenter.com
SUMMARY:Gentle Yoga
DESCRIPTION:
URL:https://oneillcenter.com/event/gentle-yoga-164/
CATEGORIES:Marietta
END:VEVENT
END:VCALENDAR