BEGIN:VCALENDAR
VERSION:2.0
PRODID:-//ONeill Center - ECPv6.15.20//NONSGML v1.0//EN
CALSCALE:GREGORIAN
METHOD:PUBLISH
X-WR-CALNAME:ONeill Center
X-ORIGINAL-URL:https://oneillcenter.com
X-WR-CALDESC:Events for ONeill Center
REFRESH-INTERVAL;VALUE=DURATION:PT1H
X-Robots-Tag:noindex
X-PUBLISHED-TTL:PT1H
BEGIN:VTIMEZONE
TZID:America/New_York
BEGIN:DAYLIGHT
TZOFFSETFROM:-0500
TZOFFSETTO:-0400
TZNAME:EDT
DTSTART:20240310T070000
END:DAYLIGHT
BEGIN:STANDARD
TZOFFSETFROM:-0400
TZOFFSETTO:-0500
TZNAME:EST
DTSTART:20241103T060000
END:STANDARD
BEGIN:DAYLIGHT
TZOFFSETFROM:-0500
TZOFFSETTO:-0400
TZNAME:EDT
DTSTART:20250309T070000
END:DAYLIGHT
BEGIN:STANDARD
TZOFFSETFROM:-0400
TZOFFSETTO:-0500
TZNAME:EST
DTSTART:20251102T060000
END:STANDARD
BEGIN:DAYLIGHT
TZOFFSETFROM:-0500
TZOFFSETTO:-0400
TZNAME:EDT
DTSTART:20260308T070000
END:DAYLIGHT
BEGIN:STANDARD
TZOFFSETFROM:-0400
TZOFFSETTO:-0500
TZNAME:EST
DTSTART:20261101T060000
END:STANDARD
END:VTIMEZONE
BEGIN:VEVENT
DTSTART;TZID=America/New_York:20250725T123000
DTEND;TZID=America/New_York:20250725T123000
DTSTAMP:20260421T083919
CREATED:20250520T144818Z
LAST-MODIFIED:20250520T144818Z
UID:10010906-1753446600-1753446600@oneillcenter.com
SUMMARY:Chair Volleyball
DESCRIPTION:
URL:https://oneillcenter.com/event/chair-volleyball-537/
CATEGORIES:Marietta
END:VEVENT
BEGIN:VEVENT
DTSTART;TZID=America/New_York:20250725T120000
DTEND;TZID=America/New_York:20250725T120000
DTSTAMP:20260421T083919
CREATED:20250520T144819Z
LAST-MODIFIED:20250520T144819Z
UID:10010907-1753444800-1753444800@oneillcenter.com
SUMMARY:Spades
DESCRIPTION:
URL:https://oneillcenter.com/event/spades-29/
CATEGORIES:Marietta
END:VEVENT
BEGIN:VEVENT
DTSTART;TZID=America/New_York:20250724T173000
DTEND;TZID=America/New_York:20250724T173000
DTSTAMP:20260421T083919
CREATED:20250520T144817Z
LAST-MODIFIED:20250520T144817Z
UID:10010904-1753378200-1753378200@oneillcenter.com
SUMMARY:Zumba
DESCRIPTION:
URL:https://oneillcenter.com/event/zumba-545/
CATEGORIES:Marietta
END:VEVENT
BEGIN:VEVENT
DTSTART;TZID=America/New_York:20250724T130000
DTEND;TZID=America/New_York:20250724T130000
DTSTAMP:20260421T083919
CREATED:20250520T144817Z
LAST-MODIFIED:20250520T144817Z
UID:10010903-1753362000-1753362000@oneillcenter.com
SUMMARY:Hand and Foot
DESCRIPTION:
URL:https://oneillcenter.com/event/hand-and-foot-138/
CATEGORIES:Marietta
END:VEVENT
BEGIN:VEVENT
DTSTART;TZID=America/New_York:20250724T093000
DTEND;TZID=America/New_York:20250724T093000
DTSTAMP:20260421T083919
CREATED:20250520T144805Z
LAST-MODIFIED:20250520T144805Z
UID:10010902-1753349400-1753349400@oneillcenter.com
SUMMARY:Bingo
DESCRIPTION:
URL:https://oneillcenter.com/event/bingo-175/
CATEGORIES:Marietta
END:VEVENT
BEGIN:VEVENT
DTSTART;TZID=America/New_York:20250723T173000
DTEND;TZID=America/New_York:20250723T173000
DTSTAMP:20260421T083919
CREATED:20250520T144805Z
LAST-MODIFIED:20250520T144805Z
UID:10010901-1753291800-1753291800@oneillcenter.com
SUMMARY:Zumba
DESCRIPTION:
URL:https://oneillcenter.com/event/zumba-544/
CATEGORIES:Marietta
END:VEVENT
BEGIN:VEVENT
DTSTART;TZID=America/New_York:20250723T143000
DTEND;TZID=America/New_York:20250723T143000
DTSTAMP:20260421T083919
CREATED:20250520T144748Z
LAST-MODIFIED:20250520T144748Z
UID:10010896-1753281000-1753281000@oneillcenter.com
SUMMARY:Advanced Tai Chi
DESCRIPTION:
URL:https://oneillcenter.com/event/advanced-tai-chi-53/
CATEGORIES:Marietta
END:VEVENT
BEGIN:VEVENT
DTSTART;TZID=America/New_York:20250723T133000
DTEND;TZID=America/New_York:20250723T133000
DTSTAMP:20260421T083919
CREATED:20250520T144804Z
LAST-MODIFIED:20250520T144804Z
UID:10010900-1753277400-1753277400@oneillcenter.com
SUMMARY:Tai Chi
DESCRIPTION:
URL:https://oneillcenter.com/event/tai-chi-130/
CATEGORIES:Marietta
END:VEVENT
BEGIN:VEVENT
DTSTART;TZID=America/New_York:20250723T120000
DTEND;TZID=America/New_York:20250723T120000
DTSTAMP:20260421T083919
CREATED:20250520T144803Z
LAST-MODIFIED:20250520T144803Z
UID:10010898-1753272000-1753272000@oneillcenter.com
SUMMARY:Euchre
DESCRIPTION:
URL:https://oneillcenter.com/event/euchre-172/
CATEGORIES:Marietta
END:VEVENT
BEGIN:VEVENT
DTSTART;TZID=America/New_York:20250723T100000
DTEND;TZID=America/New_York:20250723T100000
DTSTAMP:20260421T083919
CREATED:20250520T144804Z
LAST-MODIFIED:20250520T144804Z
UID:10010899-1753264800-1753264800@oneillcenter.com
SUMMARY:Kitchen Recipe Board Craft
DESCRIPTION:
URL:https://oneillcenter.com/event/kitchen-recipe-board-craft/
CATEGORIES:Marietta
END:VEVENT
BEGIN:VEVENT
DTSTART;TZID=America/New_York:20250723T100000
DTEND;TZID=America/New_York:20250723T100000
DTSTAMP:20260421T083919
CREATED:20250520T144748Z
LAST-MODIFIED:20250520T144748Z
UID:10010897-1753264800-1753264800@oneillcenter.com
SUMMARY:Chair Volleyball
DESCRIPTION:
URL:https://oneillcenter.com/event/chair-volleyball-536/
CATEGORIES:Marietta
END:VEVENT
BEGIN:VEVENT
DTSTART;TZID=America/New_York:20250722T173000
DTEND;TZID=America/New_York:20250722T173000
DTSTAMP:20260421T083919
CREATED:20250520T144748Z
LAST-MODIFIED:20250520T144748Z
UID:10010895-1753205400-1753205400@oneillcenter.com
SUMMARY:Zumba
DESCRIPTION:
URL:https://oneillcenter.com/event/zumba-543/
CATEGORIES:Marietta
END:VEVENT
BEGIN:VEVENT
DTSTART;TZID=America/New_York:20250722T150000
DTEND;TZID=America/New_York:20250722T150000
DTSTAMP:20260421T083919
CREATED:20250520T144733Z
LAST-MODIFIED:20250520T144733Z
UID:10010889-1753196400-1753196400@oneillcenter.com
SUMMARY:Ball Room Dancing with John & Kate
DESCRIPTION:
URL:https://oneillcenter.com/event/ball-room-dancing-with-john-kate-12/
CATEGORIES:Marietta
END:VEVENT
BEGIN:VEVENT
DTSTART;TZID=America/New_York:20250722T130000
DTEND;TZID=America/New_York:20250722T130000
DTSTAMP:20260421T083919
CREATED:20250520T144747Z
LAST-MODIFIED:20250520T144747Z
UID:10010893-1753189200-1753189200@oneillcenter.com
SUMMARY:Knot Just Knitting
DESCRIPTION:
URL:https://oneillcenter.com/event/knot-just-knitting-46/
CATEGORIES:Marietta
END:VEVENT
BEGIN:VEVENT
DTSTART;TZID=America/New_York:20250722T123000
DTEND;TZID=America/New_York:20250722T123000
DTSTAMP:20260421T083919
CREATED:20250520T144734Z
LAST-MODIFIED:20250520T144734Z
UID:10010890-1753187400-1753187400@oneillcenter.com
SUMMARY:Beginner Knitting
DESCRIPTION:
URL:https://oneillcenter.com/event/beginner-knitting-12/
CATEGORIES:Marietta
END:VEVENT
BEGIN:VEVENT
DTSTART;TZID=America/New_York:20250722T120000
DTEND;TZID=America/New_York:20250722T120000
DTSTAMP:20260421T083919
CREATED:20250520T144734Z
LAST-MODIFIED:20250520T144734Z
UID:10010891-1753185600-1753185600@oneillcenter.com
SUMMARY:Bridge
DESCRIPTION:
URL:https://oneillcenter.com/event/bridge-175/
CATEGORIES:Marietta
END:VEVENT
BEGIN:VEVENT
DTSTART;TZID=America/New_York:20250722T100000
DTEND;TZID=America/New_York:20250722T100000
DTSTAMP:20260421T083919
CREATED:20250520T144747Z
LAST-MODIFIED:20250520T144747Z
UID:10010894-1753178400-1753178400@oneillcenter.com
SUMMARY:Mani Pedis
DESCRIPTION:
URL:https://oneillcenter.com/event/mani-pedis-72/
CATEGORIES:Marietta
END:VEVENT
BEGIN:VEVENT
DTSTART;TZID=America/New_York:20250722T100000
DTEND;TZID=America/New_York:20250722T100000
DTSTAMP:20260421T083919
CREATED:20250520T144734Z
LAST-MODIFIED:20250520T144734Z
UID:10010892-1753178400-1753178400@oneillcenter.com
SUMMARY:Gentle Yoga
DESCRIPTION:
URL:https://oneillcenter.com/event/gentle-yoga-167/
CATEGORIES:Marietta
END:VEVENT
BEGIN:VEVENT
DTSTART;TZID=America/New_York:20250721T130000
DTEND;TZID=America/New_York:20250721T130000
DTSTAMP:20260421T083919
CREATED:20250520T144718Z
LAST-MODIFIED:20250520T144718Z
UID:10010887-1753102800-1753102800@oneillcenter.com
SUMMARY:Talk With A Health Professional
DESCRIPTION:
URL:https://oneillcenter.com/event/talk-with-a-health-professional/
CATEGORIES:Marietta
END:VEVENT
BEGIN:VEVENT
DTSTART;TZID=America/New_York:20250721T111500
DTEND;TZID=America/New_York:20250721T111500
DTSTAMP:20260421T083919
CREATED:20250520T144733Z
LAST-MODIFIED:20250520T144733Z
UID:10010888-1753096500-1753096500@oneillcenter.com
SUMMARY:Zumba
DESCRIPTION:
URL:https://oneillcenter.com/event/zumba-542/
CATEGORIES:Marietta
END:VEVENT
BEGIN:VEVENT
DTSTART;TZID=America/New_York:20250721T100000
DTEND;TZID=America/New_York:20250721T100000
DTSTAMP:20260421T083919
CREATED:20250520T144718Z
LAST-MODIFIED:20250520T144718Z
UID:10010885-1753092000-1753092000@oneillcenter.com
SUMMARY:Chair Exercise
DESCRIPTION:
URL:https://oneillcenter.com/event/chair-exercise-564/
CATEGORIES:Marietta
END:VEVENT
BEGIN:VEVENT
DTSTART;TZID=America/New_York:20250721T100000
DTEND;TZID=America/New_York:20250721T100000
DTSTAMP:20260421T083919
CREATED:20250520T144718Z
LAST-MODIFIED:20250520T144718Z
UID:10010886-1753092000-1753092000@oneillcenter.com
SUMMARY:Healthy Eating Club
DESCRIPTION:
URL:https://oneillcenter.com/event/healthy-eating-club-6/
CATEGORIES:Marietta
END:VEVENT
BEGIN:VEVENT
DTSTART;TZID=America/New_York:20250718T133000
DTEND;TZID=America/New_York:20250718T133000
DTSTAMP:20260421T083919
CREATED:20250520T144704Z
LAST-MODIFIED:20250520T144704Z
UID:10010881-1752845400-1752845400@oneillcenter.com
SUMMARY:Chair Exercise
DESCRIPTION:
URL:https://oneillcenter.com/event/chair-exercise-563/
CATEGORIES:Marietta
END:VEVENT
BEGIN:VEVENT
DTSTART;TZID=America/New_York:20250718T123000
DTEND;TZID=America/New_York:20250718T123000
DTSTAMP:20260421T083919
CREATED:20250520T144704Z
LAST-MODIFIED:20250520T144704Z
UID:10010882-1752841800-1752841800@oneillcenter.com
SUMMARY:Chair Volleyball
DESCRIPTION:
URL:https://oneillcenter.com/event/chair-volleyball-535/
CATEGORIES:Marietta
END:VEVENT
BEGIN:VEVENT
DTSTART;TZID=America/New_York:20250718T120000
DTEND;TZID=America/New_York:20250718T120000
DTSTAMP:20260421T083919
CREATED:20250520T144717Z
LAST-MODIFIED:20250520T144717Z
UID:10010884-1752840000-1752840000@oneillcenter.com
SUMMARY:Spades
DESCRIPTION:
URL:https://oneillcenter.com/event/spades-28/
CATEGORIES:Marietta
END:VEVENT
BEGIN:VEVENT
DTSTART;TZID=America/New_York:20250718T100000
DTEND;TZID=America/New_York:20250718T100000
DTSTAMP:20260421T083919
CREATED:20250520T144717Z
LAST-MODIFIED:20250520T144717Z
UID:10010883-1752832800-1752832800@oneillcenter.com
SUMMARY:Sleepy Girl Mocktail
DESCRIPTION:
URL:https://oneillcenter.com/event/sleepy-girl-mocktail/
CATEGORIES:Marietta
END:VEVENT
BEGIN:VEVENT
DTSTART;TZID=America/New_York:20250717T173000
DTEND;TZID=America/New_York:20250717T173000
DTSTAMP:20260421T083919
CREATED:20250520T144704Z
LAST-MODIFIED:20250520T144704Z
UID:10010880-1752773400-1752773400@oneillcenter.com
SUMMARY:Zumba
DESCRIPTION:
URL:https://oneillcenter.com/event/zumba-541/
CATEGORIES:Marietta
END:VEVENT
BEGIN:VEVENT
DTSTART;TZID=America/New_York:20250717T130000
DTEND;TZID=America/New_York:20250717T130000
DTSTAMP:20260421T083919
CREATED:20250520T144703Z
LAST-MODIFIED:20250520T144703Z
UID:10010879-1752757200-1752757200@oneillcenter.com
SUMMARY:Hand and Foot
DESCRIPTION:
URL:https://oneillcenter.com/event/hand-and-foot-137/
CATEGORIES:Marietta
END:VEVENT
BEGIN:VEVENT
DTSTART;TZID=America/New_York:20250717T093000
DTEND;TZID=America/New_York:20250717T093000
DTSTAMP:20260421T083919
CREATED:20250520T144648Z
LAST-MODIFIED:20250520T144648Z
UID:10010877-1752744600-1752744600@oneillcenter.com
SUMMARY:Bingo
DESCRIPTION:
URL:https://oneillcenter.com/event/bingo-174/
CATEGORIES:Marietta
END:VEVENT
BEGIN:VEVENT
DTSTART;TZID=America/New_York:20250717T083000
DTEND;TZID=America/New_York:20250717T083000
DTSTAMP:20260421T083919
CREATED:20250520T144703Z
LAST-MODIFIED:20250520T144703Z
UID:10010878-1752741000-1752741000@oneillcenter.com
SUMMARY:Blood Pressure Checks
DESCRIPTION:
URL:https://oneillcenter.com/event/blood-pressure-checks-13/
CATEGORIES:Marietta
END:VEVENT
END:VCALENDAR