BEGIN:VCALENDAR
VERSION:2.0
PRODID:-//ONeill Center - ECPv6.15.20//NONSGML v1.0//EN
CALSCALE:GREGORIAN
METHOD:PUBLISH
X-ORIGINAL-URL:https://oneillcenter.com
X-WR-CALDESC:Events for ONeill Center
REFRESH-INTERVAL;VALUE=DURATION:PT1H
X-Robots-Tag:noindex
X-PUBLISHED-TTL:PT1H
BEGIN:VTIMEZONE
TZID:America/New_York
BEGIN:DAYLIGHT
TZOFFSETFROM:-0500
TZOFFSETTO:-0400
TZNAME:EDT
DTSTART:20240310T070000
END:DAYLIGHT
BEGIN:STANDARD
TZOFFSETFROM:-0400
TZOFFSETTO:-0500
TZNAME:EST
DTSTART:20241103T060000
END:STANDARD
BEGIN:DAYLIGHT
TZOFFSETFROM:-0500
TZOFFSETTO:-0400
TZNAME:EDT
DTSTART:20250309T070000
END:DAYLIGHT
BEGIN:STANDARD
TZOFFSETFROM:-0400
TZOFFSETTO:-0500
TZNAME:EST
DTSTART:20251102T060000
END:STANDARD
BEGIN:DAYLIGHT
TZOFFSETFROM:-0500
TZOFFSETTO:-0400
TZNAME:EDT
DTSTART:20260308T070000
END:DAYLIGHT
BEGIN:STANDARD
TZOFFSETFROM:-0400
TZOFFSETTO:-0500
TZNAME:EST
DTSTART:20261101T060000
END:STANDARD
END:VTIMEZONE
BEGIN:VEVENT
DTSTART;TZID=America/New_York:20250507T140000
DTEND;TZID=America/New_York:20250507T140000
DTSTAMP:20260423T004952
CREATED:20250331T150142Z
LAST-MODIFIED:20250520T143226Z
UID:10010405-1746626400-1746626400@oneillcenter.com
SUMMARY:Euchre
DESCRIPTION:
URL:https://oneillcenter.com/event/euchre-161/
CATEGORIES:Marietta
END:VEVENT
BEGIN:VEVENT
DTSTART;TZID=America/New_York:20250507T140000
DTEND;TZID=America/New_York:20250507T140000
DTSTAMP:20260423T004952
CREATED:20250331T150142Z
LAST-MODIFIED:20250520T143239Z
UID:10010406-1746626400-1746626400@oneillcenter.com
SUMMARY:Monthly B-day Party
DESCRIPTION:
URL:https://oneillcenter.com/event/monthly-b-day-party-13/
CATEGORIES:Marietta
END:VEVENT
BEGIN:VEVENT
DTSTART;TZID=America/New_York:20250507T133000
DTEND;TZID=America/New_York:20250507T133000
DTSTAMP:20260423T004952
CREATED:20250520T143240Z
LAST-MODIFIED:20250520T143240Z
UID:10010802-1746624600-1746624600@oneillcenter.com
SUMMARY:Beginner Tai Chi
DESCRIPTION:
URL:https://oneillcenter.com/event/beginner-tai-chi-144/
CATEGORIES:Marietta
END:VEVENT
BEGIN:VEVENT
DTSTART;TZID=America/New_York:20250507T133000
DTEND;TZID=America/New_York:20250507T133000
DTSTAMP:20260423T004952
CREATED:20250331T150142Z
LAST-MODIFIED:20250331T150142Z
UID:10010404-1746624600-1746624600@oneillcenter.com
SUMMARY:Beginner Tai Chi
DESCRIPTION:
URL:https://oneillcenter.com/event/beginner-tai-chi-142/
CATEGORIES:Marietta
END:VEVENT
BEGIN:VEVENT
DTSTART;TZID=America/New_York:20250507T090000
DTEND;TZID=America/New_York:20250507T090000
DTSTAMP:20260423T004952
CREATED:20250331T150129Z
LAST-MODIFIED:20250520T143240Z
UID:10010403-1746608400-1746608400@oneillcenter.com
SUMMARY:Health Fair
DESCRIPTION:
URL:https://oneillcenter.com/event/health-fair-4/
CATEGORIES:Marietta
END:VEVENT
BEGIN:VEVENT
DTSTART;TZID=America/New_York:20250506T173000
DTEND;TZID=America/New_York:20250506T173000
DTSTAMP:20260423T004952
CREATED:20250331T150128Z
LAST-MODIFIED:20250520T143210Z
UID:10010402-1746552600-1746552600@oneillcenter.com
SUMMARY:Zumba
DESCRIPTION:
URL:https://oneillcenter.com/event/zumba-499/
CATEGORIES:Marietta
END:VEVENT
BEGIN:VEVENT
DTSTART;TZID=America/New_York:20250506T150000
DTEND;TZID=America/New_York:20250506T150000
DTSTAMP:20260423T004952
CREATED:20250331T150128Z
LAST-MODIFIED:20250520T143225Z
UID:10010401-1746543600-1746543600@oneillcenter.com
SUMMARY:Ball Room Dancing with John & Kate
DESCRIPTION:
URL:https://oneillcenter.com/event/ball-room-dancing-with-john-kate/
CATEGORIES:Marietta
END:VEVENT
BEGIN:VEVENT
DTSTART;TZID=America/New_York:20250506T130000
DTEND;TZID=America/New_York:20250506T130000
DTSTAMP:20260423T004952
CREATED:20250331T150127Z
LAST-MODIFIED:20250520T143224Z
UID:10010400-1746536400-1746536400@oneillcenter.com
SUMMARY:Knot Just Knitting
DESCRIPTION:
URL:https://oneillcenter.com/event/knot-just-knitting-35/
CATEGORIES:Marietta
END:VEVENT
BEGIN:VEVENT
DTSTART;TZID=America/New_York:20250506T130000
DTEND;TZID=America/New_York:20250506T130000
DTSTAMP:20260423T004952
CREATED:20250331T150126Z
LAST-MODIFIED:20250520T143209Z
UID:10010399-1746536400-1746536400@oneillcenter.com
SUMMARY:Bridge
DESCRIPTION:
URL:https://oneillcenter.com/event/bridge-164/
CATEGORIES:Marietta
END:VEVENT
BEGIN:VEVENT
DTSTART;TZID=America/New_York:20250506T123000
DTEND;TZID=America/New_York:20250506T123000
DTSTAMP:20260423T004952
CREATED:20250331T150113Z
LAST-MODIFIED:20250520T143224Z
UID:10010398-1746534600-1746534600@oneillcenter.com
SUMMARY:Beginner Knitting
DESCRIPTION:
URL:https://oneillcenter.com/event/beginner-knitting/
CATEGORIES:Marietta
END:VEVENT
BEGIN:VEVENT
DTSTART;TZID=America/New_York:20250506T120000
DTEND;TZID=America/New_York:20250506T120000
DTSTAMP:20260423T004952
CREATED:20250331T150113Z
LAST-MODIFIED:20250520T143209Z
UID:10010397-1746532800-1746532800@oneillcenter.com
SUMMARY:Hearing Aid Cleaning
DESCRIPTION:
URL:https://oneillcenter.com/event/hearing-aid-cleaning-19/
CATEGORIES:Marietta
END:VEVENT
BEGIN:VEVENT
DTSTART;TZID=America/New_York:20250506T100000
DTEND;TZID=America/New_York:20250506T100000
DTSTAMP:20260423T004952
CREATED:20250331T150112Z
LAST-MODIFIED:20250520T143210Z
UID:10010395-1746525600-1746525600@oneillcenter.com
SUMMARY:Gentle Yoga
DESCRIPTION:
URL:https://oneillcenter.com/event/gentle-yoga-156/
CATEGORIES:Marietta
END:VEVENT
BEGIN:VEVENT
DTSTART;TZID=America/New_York:20250506T100000
DTEND;TZID=America/New_York:20250506T100000
DTSTAMP:20260423T004952
CREATED:20250331T150112Z
LAST-MODIFIED:20250520T143225Z
UID:10010396-1746525600-1746525600@oneillcenter.com
SUMMARY:Healthy Eating Club
DESCRIPTION:
URL:https://oneillcenter.com/event/healthy-eating-club-4/
CATEGORIES:Marietta
END:VEVENT
BEGIN:VEVENT
DTSTART;TZID=America/New_York:20250506T090000
DTEND;TZID=America/New_York:20250506T090000
DTSTAMP:20260423T004952
CREATED:20250331T150111Z
LAST-MODIFIED:20250520T143211Z
UID:10010394-1746522000-1746522000@oneillcenter.com
SUMMARY:Men's Breakfast
DESCRIPTION:
URL:https://oneillcenter.com/event/mens-breakfast-29/
CATEGORIES:Marietta
END:VEVENT
BEGIN:VEVENT
DTSTART;TZID=America/New_York:20250502T133000
DTEND;TZID=America/New_York:20250502T133000
DTSTAMP:20260423T004952
CREATED:20250331T150100Z
LAST-MODIFIED:20250520T143155Z
UID:10010388-1746192600-1746192600@oneillcenter.com
SUMMARY:Chair Exercise
DESCRIPTION:
URL:https://oneillcenter.com/event/chair-exercise-507/
CATEGORIES:Marietta
END:VEVENT
BEGIN:VEVENT
DTSTART;TZID=America/New_York:20250502T130000
DTEND;TZID=America/New_York:20250502T130000
DTSTAMP:20260423T004952
CREATED:20250331T150059Z
LAST-MODIFIED:20250520T143156Z
UID:10010387-1746190800-1746190800@oneillcenter.com
SUMMARY:Spades
DESCRIPTION:
URL:https://oneillcenter.com/event/spades-18/
CATEGORIES:Marietta
END:VEVENT
BEGIN:VEVENT
DTSTART;TZID=America/New_York:20250502T123000
DTEND;TZID=America/New_York:20250502T123000
DTSTAMP:20260423T004952
CREATED:20250331T150057Z
LAST-MODIFIED:20250520T143154Z
UID:10010386-1746189000-1746189000@oneillcenter.com
SUMMARY:Chair Volleyball
DESCRIPTION:
URL:https://oneillcenter.com/event/chair-volleyball-495/
CATEGORIES:Marietta
END:VEVENT
BEGIN:VEVENT
DTSTART;TZID=America/New_York:20250502T100000
DTEND;TZID=America/New_York:20250502T100000
DTSTAMP:20260423T004952
CREATED:20250331T150057Z
LAST-MODIFIED:20250520T143154Z
UID:10010385-1746180000-1746180000@oneillcenter.com
SUMMARY:Dementia Support Group
DESCRIPTION:
URL:https://oneillcenter.com/event/dementia-support-group-15/
CATEGORIES:Marietta
END:VEVENT
BEGIN:VEVENT
DTSTART;TZID=America/New_York:20250501T173000
DTEND;TZID=America/New_York:20250501T173000
DTSTAMP:20260423T004952
CREATED:20250331T150056Z
LAST-MODIFIED:20250520T143151Z
UID:10010384-1746120600-1746120600@oneillcenter.com
SUMMARY:Zumba
DESCRIPTION:
URL:https://oneillcenter.com/event/zumba-497/
CATEGORIES:Marietta
END:VEVENT
BEGIN:VEVENT
DTSTART;TZID=America/New_York:20250501T140000
DTEND;TZID=America/New_York:20250501T140000
DTSTAMP:20260423T004952
CREATED:20250331T150054Z
LAST-MODIFIED:20250520T143153Z
UID:10010383-1746108000-1746108000@oneillcenter.com
SUMMARY:Walk with Ease
DESCRIPTION:
URL:https://oneillcenter.com/event/walk-with-ease-123/
CATEGORIES:Marietta
END:VEVENT
BEGIN:VEVENT
DTSTART;TZID=America/New_York:20250501T130000
DTEND;TZID=America/New_York:20250501T130000
DTSTAMP:20260423T004952
CREATED:20250331T150053Z
LAST-MODIFIED:20250520T143150Z
UID:10010382-1746104400-1746104400@oneillcenter.com
SUMMARY:Hand and Foot
DESCRIPTION:
URL:https://oneillcenter.com/event/hand-and-foot-126/
CATEGORIES:Marietta
END:VEVENT
BEGIN:VEVENT
DTSTART;TZID=America/New_York:20250501T093000
DTEND;TZID=America/New_York:20250501T093000
DTSTAMP:20260423T004952
CREATED:20250331T150053Z
LAST-MODIFIED:20250520T143150Z
UID:10010381-1746091800-1746091800@oneillcenter.com
SUMMARY:Bingo
DESCRIPTION:
URL:https://oneillcenter.com/event/bingo-163/
CATEGORIES:Marietta
END:VEVENT
BEGIN:VEVENT
DTSTART;TZID=America/New_York:20250501T090000
DTEND;TZID=America/New_York:20250501T090000
DTSTAMP:20260423T004952
CREATED:20250331T150052Z
LAST-MODIFIED:20250520T143149Z
UID:10010380-1746090000-1746090000@oneillcenter.com
SUMMARY:Men's Billiard Tournament
DESCRIPTION:
URL:https://oneillcenter.com/event/mens-billiard-tournament-75/
CATEGORIES:Marietta
END:VEVENT
BEGIN:VEVENT
DTSTART;TZID=America/New_York:20250501T083000
DTEND;TZID=America/New_York:20250501T083000
DTSTAMP:20260423T004952
CREATED:20250331T150052Z
LAST-MODIFIED:20250520T143151Z
UID:10010379-1746088200-1746088200@oneillcenter.com
SUMMARY:Blood Pressure\, Blood Sugar Checks
DESCRIPTION:
URL:https://oneillcenter.com/event/blood-pressure-blood-sugar-checks-3/
CATEGORIES:Marietta
END:VEVENT
BEGIN:VEVENT
DTSTART;TZID=America/New_York:20250430T173000
DTEND;TZID=America/New_York:20250430T173000
DTSTAMP:20260423T004952
CREATED:20250227T194625Z
LAST-MODIFIED:20250227T194625Z
UID:10010173-1746034200-1746034200@oneillcenter.com
SUMMARY:Zumba
DESCRIPTION:
URL:https://oneillcenter.com/event/zumba-496/
CATEGORIES:Marietta
END:VEVENT
BEGIN:VEVENT
DTSTART;TZID=America/New_York:20250430T140000
DTEND;TZID=America/New_York:20250430T140000
DTSTAMP:20260423T004952
CREATED:20250227T194624Z
LAST-MODIFIED:20250227T194624Z
UID:10010172-1746021600-1746021600@oneillcenter.com
SUMMARY:Advanced Tai Chi
DESCRIPTION:
URL:https://oneillcenter.com/event/advanced-tai-chi-49/
CATEGORIES:Marietta
END:VEVENT
BEGIN:VEVENT
DTSTART;TZID=America/New_York:20250430T133000
DTEND;TZID=America/New_York:20250430T133000
DTSTAMP:20260423T004952
CREATED:20250227T194612Z
LAST-MODIFIED:20250227T194612Z
UID:10010171-1746019800-1746019800@oneillcenter.com
SUMMARY:Beginner Tai Chi
DESCRIPTION:
URL:https://oneillcenter.com/event/beginner-tai-chi-141/
CATEGORIES:Marietta
END:VEVENT
BEGIN:VEVENT
DTSTART;TZID=America/New_York:20250430T130000
DTEND;TZID=America/New_York:20250430T130000
DTSTAMP:20260423T004952
CREATED:20250227T194611Z
LAST-MODIFIED:20250227T194611Z
UID:10010170-1746018000-1746018000@oneillcenter.com
SUMMARY:Euchre
DESCRIPTION:
URL:https://oneillcenter.com/event/euchre-160/
CATEGORIES:Marietta
END:VEVENT
BEGIN:VEVENT
DTSTART;TZID=America/New_York:20250430T100000
DTEND;TZID=America/New_York:20250430T100000
DTSTAMP:20260423T004952
CREATED:20250227T194611Z
LAST-MODIFIED:20250227T194611Z
UID:10010169-1746007200-1746007200@oneillcenter.com
SUMMARY:Chair Volleyball
DESCRIPTION:
URL:https://oneillcenter.com/event/chair-volleyball-474/
CATEGORIES:Marietta
END:VEVENT
BEGIN:VEVENT
DTSTART;TZID=America/New_York:20250429T173000
DTEND;TZID=America/New_York:20250429T173000
DTSTAMP:20260423T004952
CREATED:20250227T194610Z
LAST-MODIFIED:20250227T194610Z
UID:10010168-1745947800-1745947800@oneillcenter.com
SUMMARY:Zumba
DESCRIPTION:
URL:https://oneillcenter.com/event/zumba-495/
CATEGORIES:Marietta
END:VEVENT
END:VCALENDAR