BEGIN:VCALENDAR
VERSION:2.0
PRODID:-//ONeill Center - ECPv6.15.20//NONSGML v1.0//EN
CALSCALE:GREGORIAN
METHOD:PUBLISH
X-WR-CALNAME:ONeill Center
X-ORIGINAL-URL:https://oneillcenter.com
X-WR-CALDESC:Events for ONeill Center
REFRESH-INTERVAL;VALUE=DURATION:PT1H
X-Robots-Tag:noindex
X-PUBLISHED-TTL:PT1H
BEGIN:VTIMEZONE
TZID:America/New_York
BEGIN:DAYLIGHT
TZOFFSETFROM:-0500
TZOFFSETTO:-0400
TZNAME:EDT
DTSTART:20240310T070000
END:DAYLIGHT
BEGIN:STANDARD
TZOFFSETFROM:-0400
TZOFFSETTO:-0500
TZNAME:EST
DTSTART:20241103T060000
END:STANDARD
BEGIN:DAYLIGHT
TZOFFSETFROM:-0500
TZOFFSETTO:-0400
TZNAME:EDT
DTSTART:20250309T070000
END:DAYLIGHT
BEGIN:STANDARD
TZOFFSETFROM:-0400
TZOFFSETTO:-0500
TZNAME:EST
DTSTART:20251102T060000
END:STANDARD
BEGIN:DAYLIGHT
TZOFFSETFROM:-0500
TZOFFSETTO:-0400
TZNAME:EDT
DTSTART:20260308T070000
END:DAYLIGHT
BEGIN:STANDARD
TZOFFSETFROM:-0400
TZOFFSETTO:-0500
TZNAME:EST
DTSTART:20261101T060000
END:STANDARD
END:VTIMEZONE
BEGIN:VEVENT
DTSTART;TZID=America/New_York:20250516T123000
DTEND;TZID=America/New_York:20250516T123000
DTSTAMP:20260422T204956
CREATED:20250331T150427Z
LAST-MODIFIED:20250520T143352Z
UID:10010440-1747398600-1747398600@oneillcenter.com
SUMMARY:Chair Volleyball
DESCRIPTION:
URL:https://oneillcenter.com/event/chair-volleyball-497/
CATEGORIES:Marietta
END:VEVENT
BEGIN:VEVENT
DTSTART;TZID=America/New_York:20250516T100000
DTEND;TZID=America/New_York:20250516T100000
DTSTAMP:20260422T204956
CREATED:20250331T150426Z
LAST-MODIFIED:20250520T143404Z
UID:10010439-1747389600-1747389600@oneillcenter.com
SUMMARY:Bob Ross Painting with Kyla
DESCRIPTION:
URL:https://oneillcenter.com/event/bob-ross-painting-with-kyla/
CATEGORIES:Marietta
END:VEVENT
BEGIN:VEVENT
DTSTART;TZID=America/New_York:20250515T173000
DTEND;TZID=America/New_York:20250515T173000
DTSTAMP:20260422T204956
CREATED:20250331T150405Z
LAST-MODIFIED:20250520T143352Z
UID:10010438-1747330200-1747330200@oneillcenter.com
SUMMARY:Zumba
DESCRIPTION:
URL:https://oneillcenter.com/event/zumba-505/
CATEGORIES:Marietta
END:VEVENT
BEGIN:VEVENT
DTSTART;TZID=America/New_York:20250515T130000
DTEND;TZID=America/New_York:20250515T130000
DTSTAMP:20260422T204956
CREATED:20250331T150405Z
LAST-MODIFIED:20250520T143351Z
UID:10010437-1747314000-1747314000@oneillcenter.com
SUMMARY:Hand and Foot
DESCRIPTION:
URL:https://oneillcenter.com/event/hand-and-foot-128/
CATEGORIES:Marietta
END:VEVENT
BEGIN:VEVENT
DTSTART;TZID=America/New_York:20250515T093000
DTEND;TZID=America/New_York:20250515T093000
DTSTAMP:20260422T204956
CREATED:20250331T150404Z
LAST-MODIFIED:20250520T143351Z
UID:10010436-1747301400-1747301400@oneillcenter.com
SUMMARY:Bingo
DESCRIPTION:
URL:https://oneillcenter.com/event/bingo-165/
CATEGORIES:Marietta
END:VEVENT
BEGIN:VEVENT
DTSTART;TZID=America/New_York:20250515T080000
DTEND;TZID=America/New_York:20250515T080000
DTSTAMP:20260422T204956
CREATED:20250331T150404Z
LAST-MODIFIED:20250520T143350Z
UID:10010435-1747296000-1747296000@oneillcenter.com
SUMMARY:Blood Pressure Checks
DESCRIPTION:
URL:https://oneillcenter.com/event/blood-pressure-checks-11/
CATEGORIES:Marietta
END:VEVENT
BEGIN:VEVENT
DTSTART;TZID=America/New_York:20250514T173000
DTEND;TZID=America/New_York:20250514T173000
DTSTAMP:20260422T204956
CREATED:20250331T150403Z
LAST-MODIFIED:20250520T143340Z
UID:10010434-1747243800-1747243800@oneillcenter.com
SUMMARY:Zumba
DESCRIPTION:
URL:https://oneillcenter.com/event/zumba-504/
CATEGORIES:Marietta
END:VEVENT
BEGIN:VEVENT
DTSTART;TZID=America/New_York:20250514T140000
DTEND;TZID=America/New_York:20250514T140000
DTSTAMP:20260422T204956
CREATED:20250331T150307Z
LAST-MODIFIED:20250520T143341Z
UID:10010433-1747231200-1747231200@oneillcenter.com
SUMMARY:Tai Chi Advanced
DESCRIPTION:
URL:https://oneillcenter.com/event/tai-chi-advanced/
CATEGORIES:Marietta
END:VEVENT
BEGIN:VEVENT
DTSTART;TZID=America/New_York:20250514T133000
DTEND;TZID=America/New_York:20250514T133000
DTSTAMP:20260422T204956
CREATED:20250331T150306Z
LAST-MODIFIED:20250520T143340Z
UID:10010432-1747229400-1747229400@oneillcenter.com
SUMMARY:Tai Chi Beginner
DESCRIPTION:
URL:https://oneillcenter.com/event/tai-chi-beginner/
CATEGORIES:Marietta
END:VEVENT
BEGIN:VEVENT
DTSTART;TZID=America/New_York:20250514T130000
DTEND;TZID=America/New_York:20250514T130000
DTSTAMP:20260422T204956
CREATED:20250331T150306Z
LAST-MODIFIED:20250520T143339Z
UID:10010431-1747227600-1747227600@oneillcenter.com
SUMMARY:Euchre
DESCRIPTION:
URL:https://oneillcenter.com/event/euchre-162/
CATEGORIES:Marietta
END:VEVENT
BEGIN:VEVENT
DTSTART;TZID=America/New_York:20250514T110000
DTEND;TZID=America/New_York:20250514T110000
DTSTAMP:20260422T204956
CREATED:20250331T150305Z
LAST-MODIFIED:20250520T143339Z
UID:10010430-1747220400-1747220400@oneillcenter.com
SUMMARY:Senior Club Potluck/Meeting
DESCRIPTION:
URL:https://oneillcenter.com/event/senior-club-potluck-meeting-39/
CATEGORIES:Marietta
END:VEVENT
BEGIN:VEVENT
DTSTART;TZID=America/New_York:20250514T090000
DTEND;TZID=America/New_York:20250514T090000
DTSTAMP:20260422T204956
CREATED:20250331T150305Z
LAST-MODIFIED:20250520T143326Z
UID:10010429-1747213200-1747213200@oneillcenter.com
SUMMARY:Quilting Group
DESCRIPTION:
URL:https://oneillcenter.com/event/quilting-group-77/
CATEGORIES:Marietta
END:VEVENT
BEGIN:VEVENT
DTSTART;TZID=America/New_York:20250513T173000
DTEND;TZID=America/New_York:20250513T173000
DTSTAMP:20260422T204956
CREATED:20250331T150228Z
LAST-MODIFIED:20250520T143310Z
UID:10010428-1747157400-1747157400@oneillcenter.com
SUMMARY:Zumba
DESCRIPTION:
URL:https://oneillcenter.com/event/zumba-503/
CATEGORIES:Marietta
END:VEVENT
BEGIN:VEVENT
DTSTART;TZID=America/New_York:20250513T150000
DTEND;TZID=America/New_York:20250513T150000
DTSTAMP:20260422T204956
CREATED:20250331T150228Z
LAST-MODIFIED:20250520T143325Z
UID:10010427-1747148400-1747148400@oneillcenter.com
SUMMARY:Ball Room Dancing with John & Kate
DESCRIPTION:
URL:https://oneillcenter.com/event/ball-room-dancing-with-john-kate-2/
CATEGORIES:Marietta
END:VEVENT
BEGIN:VEVENT
DTSTART;TZID=America/New_York:20250513T130000
DTEND;TZID=America/New_York:20250513T130000
DTSTAMP:20260422T204956
CREATED:20250331T150227Z
LAST-MODIFIED:20250520T143310Z
UID:10010425-1747141200-1747141200@oneillcenter.com
SUMMARY:Bridge
DESCRIPTION:
URL:https://oneillcenter.com/event/bridge-165/
CATEGORIES:Marietta
END:VEVENT
BEGIN:VEVENT
DTSTART;TZID=America/New_York:20250513T130000
DTEND;TZID=America/New_York:20250513T130000
DTSTAMP:20260422T204956
CREATED:20250331T150227Z
LAST-MODIFIED:20250520T143324Z
UID:10010426-1747141200-1747141200@oneillcenter.com
SUMMARY:Knot Just Knitting
DESCRIPTION:
URL:https://oneillcenter.com/event/knot-just-knitting-36/
CATEGORIES:Marietta
END:VEVENT
BEGIN:VEVENT
DTSTART;TZID=America/New_York:20250513T123000
DTEND;TZID=America/New_York:20250513T123000
DTSTAMP:20260422T204956
CREATED:20250331T150226Z
LAST-MODIFIED:20250520T143325Z
UID:10010424-1747139400-1747139400@oneillcenter.com
SUMMARY:Beginner Knitting
DESCRIPTION:
URL:https://oneillcenter.com/event/beginner-knitting-2/
CATEGORIES:Marietta
END:VEVENT
BEGIN:VEVENT
DTSTART;TZID=America/New_York:20250513T100000
DTEND;TZID=America/New_York:20250513T100000
DTSTAMP:20260422T204956
CREATED:20250331T150215Z
LAST-MODIFIED:20250520T143311Z
UID:10010422-1747130400-1747130400@oneillcenter.com
SUMMARY:Mani/Pedi's
DESCRIPTION:
URL:https://oneillcenter.com/event/mani-pedis-64/
CATEGORIES:Marietta
END:VEVENT
BEGIN:VEVENT
DTSTART;TZID=America/New_York:20250513T100000
DTEND;TZID=America/New_York:20250513T100000
DTSTAMP:20260422T204956
CREATED:20250331T150215Z
LAST-MODIFIED:20250520T143324Z
UID:10010423-1747130400-1747130400@oneillcenter.com
SUMMARY:Gentle Yoga
DESCRIPTION:
URL:https://oneillcenter.com/event/gentle-yoga-157/
CATEGORIES:Marietta
END:VEVENT
BEGIN:VEVENT
DTSTART;TZID=America/New_York:20250512T173000
DTEND;TZID=America/New_York:20250512T173000
DTSTAMP:20260422T204957
CREATED:20250520T143309Z
LAST-MODIFIED:20250520T143309Z
UID:10010804-1747071000-1747071000@oneillcenter.com
SUMMARY:Welcome To Medicare
DESCRIPTION:
URL:https://oneillcenter.com/event/welcome-to-medicare-4/
CATEGORIES:Marietta
END:VEVENT
BEGIN:VEVENT
DTSTART;TZID=America/New_York:20250512T170000
DTEND;TZID=America/New_York:20250512T170000
DTSTAMP:20260422T204957
CREATED:20250331T150214Z
LAST-MODIFIED:20250331T150214Z
UID:10010421-1747069200-1747069200@oneillcenter.com
SUMMARY:Welcome To Medicare
DESCRIPTION:
URL:https://oneillcenter.com/event/welcome-to-medicare-3/
CATEGORIES:Marietta
END:VEVENT
BEGIN:VEVENT
DTSTART;TZID=America/New_York:20250512T133000
DTEND;TZID=America/New_York:20250512T133000
DTSTAMP:20260422T204957
CREATED:20250331T150213Z
LAST-MODIFIED:20250520T143309Z
UID:10010420-1747056600-1747056600@oneillcenter.com
SUMMARY:Medicare Fraud & Utility Scams
DESCRIPTION:
URL:https://oneillcenter.com/event/medicare-fraud-utility-scams/
CATEGORIES:Marietta
END:VEVENT
BEGIN:VEVENT
DTSTART;TZID=America/New_York:20250512T130000
DTEND;TZID=America/New_York:20250512T130000
DTSTAMP:20260422T204957
CREATED:20250331T150212Z
LAST-MODIFIED:20250331T150212Z
UID:10010419-1747054800-1747054800@oneillcenter.com
SUMMARY:Shanghai
DESCRIPTION:
URL:https://oneillcenter.com/event/shanghai/
CATEGORIES:Marietta
END:VEVENT
BEGIN:VEVENT
DTSTART;TZID=America/New_York:20250509T123000
DTEND;TZID=America/New_York:20250509T123000
DTSTAMP:20260422T204957
CREATED:20250331T150159Z
LAST-MODIFIED:20250520T143256Z
UID:10010413-1746793800-1746793800@oneillcenter.com
SUMMARY:Chair Volleyball
DESCRIPTION:
URL:https://oneillcenter.com/event/chair-volleyball-496/
CATEGORIES:Marietta
END:VEVENT
BEGIN:VEVENT
DTSTART;TZID=America/New_York:20250509T090000
DTEND;TZID=America/New_York:20250509T090000
DTSTAMP:20260422T204957
CREATED:20250331T150158Z
LAST-MODIFIED:20250520T143255Z
UID:10010412-1746781200-1746781200@oneillcenter.com
SUMMARY:Men's Billiard Tournament
DESCRIPTION:
URL:https://oneillcenter.com/event/mens-billiard-tournament-76/
CATEGORIES:Marietta
END:VEVENT
BEGIN:VEVENT
DTSTART;TZID=America/New_York:20250508T173000
DTEND;TZID=America/New_York:20250508T173000
DTSTAMP:20260422T204957
CREATED:20250331T150157Z
LAST-MODIFIED:20250520T143254Z
UID:10010411-1746725400-1746725400@oneillcenter.com
SUMMARY:Zumba
DESCRIPTION:
URL:https://oneillcenter.com/event/zumba-501/
CATEGORIES:Marietta
END:VEVENT
BEGIN:VEVENT
DTSTART;TZID=America/New_York:20250508T140000
DTEND;TZID=America/New_York:20250508T140000
DTSTAMP:20260422T204957
CREATED:20250331T150157Z
LAST-MODIFIED:20250520T143255Z
UID:10010410-1746712800-1746712800@oneillcenter.com
SUMMARY:Walk with Ease
DESCRIPTION:
URL:https://oneillcenter.com/event/walk-with-ease-124/
CATEGORIES:Marietta
END:VEVENT
BEGIN:VEVENT
DTSTART;TZID=America/New_York:20250508T130000
DTEND;TZID=America/New_York:20250508T130000
DTSTAMP:20260422T204957
CREATED:20250331T150156Z
LAST-MODIFIED:20250520T143241Z
UID:10010409-1746709200-1746709200@oneillcenter.com
SUMMARY:Hand and Foot
DESCRIPTION:
URL:https://oneillcenter.com/event/hand-and-foot-127/
CATEGORIES:Marietta
END:VEVENT
BEGIN:VEVENT
DTSTART;TZID=America/New_York:20250508T093000
DTEND;TZID=America/New_York:20250508T093000
DTSTAMP:20260422T204957
CREATED:20250331T150144Z
LAST-MODIFIED:20250520T143254Z
UID:10010408-1746696600-1746696600@oneillcenter.com
SUMMARY:Bingo
DESCRIPTION:
URL:https://oneillcenter.com/event/bingo-164/
CATEGORIES:Marietta
END:VEVENT
BEGIN:VEVENT
DTSTART;TZID=America/New_York:20250507T173000
DTEND;TZID=America/New_York:20250507T173000
DTSTAMP:20260422T204957
CREATED:20250331T150143Z
LAST-MODIFIED:20250520T143239Z
UID:10010407-1746639000-1746639000@oneillcenter.com
SUMMARY:Zumba
DESCRIPTION:
URL:https://oneillcenter.com/event/zumba-500/
CATEGORIES:Marietta
END:VEVENT
END:VCALENDAR