BEGIN:VCALENDAR
VERSION:2.0
PRODID:-//ONeill Center - ECPv6.15.20//NONSGML v1.0//EN
CALSCALE:GREGORIAN
METHOD:PUBLISH
X-ORIGINAL-URL:https://oneillcenter.com
X-WR-CALDESC:Events for ONeill Center
REFRESH-INTERVAL;VALUE=DURATION:PT1H
X-Robots-Tag:noindex
X-PUBLISHED-TTL:PT1H
BEGIN:VTIMEZONE
TZID:America/New_York
BEGIN:DAYLIGHT
TZOFFSETFROM:-0500
TZOFFSETTO:-0400
TZNAME:EDT
DTSTART:20240310T070000
END:DAYLIGHT
BEGIN:STANDARD
TZOFFSETFROM:-0400
TZOFFSETTO:-0500
TZNAME:EST
DTSTART:20241103T060000
END:STANDARD
BEGIN:DAYLIGHT
TZOFFSETFROM:-0500
TZOFFSETTO:-0400
TZNAME:EDT
DTSTART:20250309T070000
END:DAYLIGHT
BEGIN:STANDARD
TZOFFSETFROM:-0400
TZOFFSETTO:-0500
TZNAME:EST
DTSTART:20251102T060000
END:STANDARD
BEGIN:DAYLIGHT
TZOFFSETFROM:-0500
TZOFFSETTO:-0400
TZNAME:EDT
DTSTART:20260308T070000
END:DAYLIGHT
BEGIN:STANDARD
TZOFFSETFROM:-0400
TZOFFSETTO:-0500
TZNAME:EST
DTSTART:20261101T060000
END:STANDARD
END:VTIMEZONE
BEGIN:VEVENT
DTSTART;TZID=America/New_York:20250523T130000
DTEND;TZID=America/New_York:20250523T130000
DTSTAMP:20260422T181912
CREATED:20250331T150805Z
LAST-MODIFIED:20250520T143521Z
UID:10010465-1748005200-1748005200@oneillcenter.com
SUMMARY:Spades
DESCRIPTION:
URL:https://oneillcenter.com/event/spades-21/
CATEGORIES:Marietta
END:VEVENT
BEGIN:VEVENT
DTSTART;TZID=America/New_York:20250523T100000
DTEND;TZID=America/New_York:20250523T100000
DTSTAMP:20260422T181912
CREATED:20250331T150708Z
LAST-MODIFIED:20250520T143521Z
UID:10010463-1747994400-1747994400@oneillcenter.com
SUMMARY:Don't Fry Day
DESCRIPTION:
URL:https://oneillcenter.com/event/dont-fry-day/
CATEGORIES:Marietta
END:VEVENT
BEGIN:VEVENT
DTSTART;TZID=America/New_York:20250521T173000
DTEND;TZID=America/New_York:20250521T173000
DTSTAMP:20260422T181912
CREATED:20250331T150705Z
LAST-MODIFIED:20250520T143451Z
UID:10010459-1747848600-1747848600@oneillcenter.com
SUMMARY:Zumba
DESCRIPTION:
URL:https://oneillcenter.com/event/zumba-508/
CATEGORIES:Marietta
END:VEVENT
BEGIN:VEVENT
DTSTART;TZID=America/New_York:20250521T140000
DTEND;TZID=America/New_York:20250521T140000
DTSTAMP:20260422T181912
CREATED:20250331T150629Z
LAST-MODIFIED:20250520T143452Z
UID:10010458-1747836000-1747836000@oneillcenter.com
SUMMARY:Tai Chi Advanced
DESCRIPTION:
URL:https://oneillcenter.com/event/tai-chi-advanced-2/
CATEGORIES:Marietta
END:VEVENT
BEGIN:VEVENT
DTSTART;TZID=America/New_York:20250521T133000
DTEND;TZID=America/New_York:20250521T133000
DTSTAMP:20260422T181912
CREATED:20250331T150628Z
LAST-MODIFIED:20250520T143451Z
UID:10010457-1747834200-1747834200@oneillcenter.com
SUMMARY:Tai Chi Beginner
DESCRIPTION:
URL:https://oneillcenter.com/event/tai-chi-beginner-2/
CATEGORIES:Marietta
END:VEVENT
BEGIN:VEVENT
DTSTART;TZID=America/New_York:20250521T130000
DTEND;TZID=America/New_York:20250521T130000
DTSTAMP:20260422T181912
CREATED:20250331T150628Z
LAST-MODIFIED:20250520T143453Z
UID:10010456-1747832400-1747832400@oneillcenter.com
SUMMARY:Eat More Veggies
DESCRIPTION:
URL:https://oneillcenter.com/event/eat-more-veggies/
CATEGORIES:Marietta
END:VEVENT
BEGIN:VEVENT
DTSTART;TZID=America/New_York:20250521T130000
DTEND;TZID=America/New_York:20250521T130000
DTSTAMP:20260422T181912
CREATED:20250331T150627Z
LAST-MODIFIED:20250520T143450Z
UID:10010455-1747832400-1747832400@oneillcenter.com
SUMMARY:Euchre
DESCRIPTION:
URL:https://oneillcenter.com/event/euchre-163/
CATEGORIES:Marietta
END:VEVENT
BEGIN:VEVENT
DTSTART;TZID=America/New_York:20250521T100000
DTEND;TZID=America/New_York:20250521T100000
DTSTAMP:20260422T181912
CREATED:20250331T150626Z
LAST-MODIFIED:20250520T143438Z
UID:10010454-1747821600-1747821600@oneillcenter.com
SUMMARY:Quilting group
DESCRIPTION:
URL:https://oneillcenter.com/event/quilting-group-78/
CATEGORIES:Marietta
END:VEVENT
BEGIN:VEVENT
DTSTART;TZID=America/New_York:20250520T173000
DTEND;TZID=America/New_York:20250520T173000
DTSTAMP:20260422T181912
CREATED:20250331T150606Z
LAST-MODIFIED:20250520T143422Z
UID:10010453-1747762200-1747762200@oneillcenter.com
SUMMARY:Zumba
DESCRIPTION:
URL:https://oneillcenter.com/event/zumba-507/
CATEGORIES:Marietta
END:VEVENT
BEGIN:VEVENT
DTSTART;TZID=America/New_York:20250520T150000
DTEND;TZID=America/New_York:20250520T150000
DTSTAMP:20260422T181913
CREATED:20250331T150606Z
LAST-MODIFIED:20250520T143437Z
UID:10010452-1747753200-1747753200@oneillcenter.com
SUMMARY:Ball Room Dancing with John & Kate
DESCRIPTION:
URL:https://oneillcenter.com/event/ball-room-dancing-with-john-kate-3/
CATEGORIES:Marietta
END:VEVENT
BEGIN:VEVENT
DTSTART;TZID=America/New_York:20250520T130000
DTEND;TZID=America/New_York:20250520T130000
DTSTAMP:20260422T181913
CREATED:20250331T150605Z
LAST-MODIFIED:20250520T143422Z
UID:10010450-1747746000-1747746000@oneillcenter.com
SUMMARY:Bridge
DESCRIPTION:
URL:https://oneillcenter.com/event/bridge-166/
CATEGORIES:Marietta
END:VEVENT
BEGIN:VEVENT
DTSTART;TZID=America/New_York:20250520T130000
DTEND;TZID=America/New_York:20250520T130000
DTSTAMP:20260422T181913
CREATED:20250331T150605Z
LAST-MODIFIED:20250520T143436Z
UID:10010451-1747746000-1747746000@oneillcenter.com
SUMMARY:Knot Just Knitting
DESCRIPTION:
URL:https://oneillcenter.com/event/knot-just-knitting-37/
CATEGORIES:Marietta
END:VEVENT
BEGIN:VEVENT
DTSTART;TZID=America/New_York:20250520T123000
DTEND;TZID=America/New_York:20250520T123000
DTSTAMP:20260422T181913
CREATED:20250331T150604Z
LAST-MODIFIED:20250520T143437Z
UID:10010449-1747744200-1747744200@oneillcenter.com
SUMMARY:Beginner Knitting
DESCRIPTION:
URL:https://oneillcenter.com/event/beginner-knitting-3/
CATEGORIES:Marietta
END:VEVENT
BEGIN:VEVENT
DTSTART;TZID=America/New_York:20250520T100000
DTEND;TZID=America/New_York:20250520T100000
DTSTAMP:20260422T181913
CREATED:20250331T150508Z
LAST-MODIFIED:20250520T143423Z
UID:10010448-1747735200-1747735200@oneillcenter.com
SUMMARY:Gentle Yoga
DESCRIPTION:
URL:https://oneillcenter.com/event/gentle-yoga-158/
CATEGORIES:Marietta
END:VEVENT
BEGIN:VEVENT
DTSTART;TZID=America/New_York:20250520T100000
DTEND;TZID=America/New_York:20250520T100000
DTSTAMP:20260422T181913
CREATED:20250331T150507Z
LAST-MODIFIED:20250520T143421Z
UID:10010447-1747735200-1747735200@oneillcenter.com
SUMMARY:Book Club
DESCRIPTION:
URL:https://oneillcenter.com/event/book-club-39/
CATEGORIES:Marietta
END:VEVENT
BEGIN:VEVENT
DTSTART;TZID=America/New_York:20250520T000000
DTEND;TZID=America/New_York:20250520T000000
DTSTAMP:20260422T181913
CREATED:20250331T150507Z
LAST-MODIFIED:20250520T143436Z
UID:10010446-1747699200-1747699200@oneillcenter.com
SUMMARY:Mani Pedis
DESCRIPTION:
URL:https://oneillcenter.com/event/mani-pedis-65/
CATEGORIES:Marietta
END:VEVENT
BEGIN:VEVENT
DTSTART;TZID=America/New_York:20250519T133000
DTEND;TZID=America/New_York:20250519T133000
DTSTAMP:20260422T181913
CREATED:20250331T150506Z
LAST-MODIFIED:20250520T143421Z
UID:10010445-1747661400-1747661400@oneillcenter.com
SUMMARY:Plant Something Day
DESCRIPTION:
URL:https://oneillcenter.com/event/plant-something-day/
CATEGORIES:Marietta
END:VEVENT
BEGIN:VEVENT
DTSTART;TZID=America/New_York:20250519T100000
DTEND;TZID=America/New_York:20250519T100000
DTSTAMP:20260422T181913
CREATED:20250331T150429Z
LAST-MODIFIED:20250331T150429Z
UID:10010443-1747648800-1747648800@oneillcenter.com
SUMMARY:Chair Exercise
DESCRIPTION:
URL:https://oneillcenter.com/event/chair-exercise-512/
CATEGORIES:Marietta
END:VEVENT
BEGIN:VEVENT
DTSTART;TZID=America/New_York:20250516T133000
DTEND;TZID=America/New_York:20250516T133000
DTSTAMP:20260422T181913
CREATED:20250331T150428Z
LAST-MODIFIED:20250520T143403Z
UID:10010442-1747402200-1747402200@oneillcenter.com
SUMMARY:Chair Exercise
DESCRIPTION:
URL:https://oneillcenter.com/event/chair-exercise-511/
CATEGORIES:Marietta
END:VEVENT
BEGIN:VEVENT
DTSTART;TZID=America/New_York:20250516T130000
DTEND;TZID=America/New_York:20250516T130000
DTSTAMP:20260422T181913
CREATED:20250331T150428Z
LAST-MODIFIED:20250520T143404Z
UID:10010441-1747400400-1747400400@oneillcenter.com
SUMMARY:Spades
DESCRIPTION:
URL:https://oneillcenter.com/event/spades-20/
CATEGORIES:Marietta
END:VEVENT
BEGIN:VEVENT
DTSTART;TZID=America/New_York:20250516T123000
DTEND;TZID=America/New_York:20250516T123000
DTSTAMP:20260422T181913
CREATED:20250331T150427Z
LAST-MODIFIED:20250520T143352Z
UID:10010440-1747398600-1747398600@oneillcenter.com
SUMMARY:Chair Volleyball
DESCRIPTION:
URL:https://oneillcenter.com/event/chair-volleyball-497/
CATEGORIES:Marietta
END:VEVENT
BEGIN:VEVENT
DTSTART;TZID=America/New_York:20250516T100000
DTEND;TZID=America/New_York:20250516T100000
DTSTAMP:20260422T181913
CREATED:20250331T150426Z
LAST-MODIFIED:20250520T143404Z
UID:10010439-1747389600-1747389600@oneillcenter.com
SUMMARY:Bob Ross Painting with Kyla
DESCRIPTION:
URL:https://oneillcenter.com/event/bob-ross-painting-with-kyla/
CATEGORIES:Marietta
END:VEVENT
BEGIN:VEVENT
DTSTART;TZID=America/New_York:20250515T173000
DTEND;TZID=America/New_York:20250515T173000
DTSTAMP:20260422T181913
CREATED:20250331T150405Z
LAST-MODIFIED:20250520T143352Z
UID:10010438-1747330200-1747330200@oneillcenter.com
SUMMARY:Zumba
DESCRIPTION:
URL:https://oneillcenter.com/event/zumba-505/
CATEGORIES:Marietta
END:VEVENT
BEGIN:VEVENT
DTSTART;TZID=America/New_York:20250515T130000
DTEND;TZID=America/New_York:20250515T130000
DTSTAMP:20260422T181913
CREATED:20250331T150405Z
LAST-MODIFIED:20250520T143351Z
UID:10010437-1747314000-1747314000@oneillcenter.com
SUMMARY:Hand and Foot
DESCRIPTION:
URL:https://oneillcenter.com/event/hand-and-foot-128/
CATEGORIES:Marietta
END:VEVENT
BEGIN:VEVENT
DTSTART;TZID=America/New_York:20250515T093000
DTEND;TZID=America/New_York:20250515T093000
DTSTAMP:20260422T181913
CREATED:20250331T150404Z
LAST-MODIFIED:20250520T143351Z
UID:10010436-1747301400-1747301400@oneillcenter.com
SUMMARY:Bingo
DESCRIPTION:
URL:https://oneillcenter.com/event/bingo-165/
CATEGORIES:Marietta
END:VEVENT
BEGIN:VEVENT
DTSTART;TZID=America/New_York:20250515T080000
DTEND;TZID=America/New_York:20250515T080000
DTSTAMP:20260422T181913
CREATED:20250331T150404Z
LAST-MODIFIED:20250520T143350Z
UID:10010435-1747296000-1747296000@oneillcenter.com
SUMMARY:Blood Pressure Checks
DESCRIPTION:
URL:https://oneillcenter.com/event/blood-pressure-checks-11/
CATEGORIES:Marietta
END:VEVENT
BEGIN:VEVENT
DTSTART;TZID=America/New_York:20250514T173000
DTEND;TZID=America/New_York:20250514T173000
DTSTAMP:20260422T181913
CREATED:20250331T150403Z
LAST-MODIFIED:20250520T143340Z
UID:10010434-1747243800-1747243800@oneillcenter.com
SUMMARY:Zumba
DESCRIPTION:
URL:https://oneillcenter.com/event/zumba-504/
CATEGORIES:Marietta
END:VEVENT
BEGIN:VEVENT
DTSTART;TZID=America/New_York:20250514T140000
DTEND;TZID=America/New_York:20250514T140000
DTSTAMP:20260422T181913
CREATED:20250331T150307Z
LAST-MODIFIED:20250520T143341Z
UID:10010433-1747231200-1747231200@oneillcenter.com
SUMMARY:Tai Chi Advanced
DESCRIPTION:
URL:https://oneillcenter.com/event/tai-chi-advanced/
CATEGORIES:Marietta
END:VEVENT
BEGIN:VEVENT
DTSTART;TZID=America/New_York:20250514T133000
DTEND;TZID=America/New_York:20250514T133000
DTSTAMP:20260422T181913
CREATED:20250331T150306Z
LAST-MODIFIED:20250520T143340Z
UID:10010432-1747229400-1747229400@oneillcenter.com
SUMMARY:Tai Chi Beginner
DESCRIPTION:
URL:https://oneillcenter.com/event/tai-chi-beginner/
CATEGORIES:Marietta
END:VEVENT
BEGIN:VEVENT
DTSTART;TZID=America/New_York:20250514T130000
DTEND;TZID=America/New_York:20250514T130000
DTSTAMP:20260422T181913
CREATED:20250331T150306Z
LAST-MODIFIED:20250520T143339Z
UID:10010431-1747227600-1747227600@oneillcenter.com
SUMMARY:Euchre
DESCRIPTION:
URL:https://oneillcenter.com/event/euchre-162/
CATEGORIES:Marietta
END:VEVENT
END:VCALENDAR