BEGIN:VCALENDAR
VERSION:2.0
PRODID:-//ONeill Center - ECPv6.15.20//NONSGML v1.0//EN
CALSCALE:GREGORIAN
METHOD:PUBLISH
X-WR-CALNAME:ONeill Center
X-ORIGINAL-URL:https://oneillcenter.com
X-WR-CALDESC:Events for ONeill Center
REFRESH-INTERVAL;VALUE=DURATION:PT1H
X-Robots-Tag:noindex
X-PUBLISHED-TTL:PT1H
BEGIN:VTIMEZONE
TZID:America/New_York
BEGIN:DAYLIGHT
TZOFFSETFROM:-0500
TZOFFSETTO:-0400
TZNAME:EDT
DTSTART:20240310T070000
END:DAYLIGHT
BEGIN:STANDARD
TZOFFSETFROM:-0400
TZOFFSETTO:-0500
TZNAME:EST
DTSTART:20241103T060000
END:STANDARD
BEGIN:DAYLIGHT
TZOFFSETFROM:-0500
TZOFFSETTO:-0400
TZNAME:EDT
DTSTART:20250309T070000
END:DAYLIGHT
BEGIN:STANDARD
TZOFFSETFROM:-0400
TZOFFSETTO:-0500
TZNAME:EST
DTSTART:20251102T060000
END:STANDARD
BEGIN:DAYLIGHT
TZOFFSETFROM:-0500
TZOFFSETTO:-0400
TZNAME:EDT
DTSTART:20260308T070000
END:DAYLIGHT
BEGIN:STANDARD
TZOFFSETFROM:-0400
TZOFFSETTO:-0500
TZNAME:EST
DTSTART:20261101T060000
END:STANDARD
END:VTIMEZONE
BEGIN:VEVENT
DTSTART;TZID=America/New_York:20250603T100000
DTEND;TZID=America/New_York:20250603T100000
DTSTAMP:20260422T142916
CREATED:20250331T151305Z
LAST-MODIFIED:20250531T132259Z
UID:10010498-1748944800-1748944800@oneillcenter.com
SUMMARY:Gentle Yoga
DESCRIPTION:
URL:https://oneillcenter.com/event/gentle-yoga-160/
CATEGORIES:Marietta
END:VEVENT
BEGIN:VEVENT
DTSTART;TZID=America/New_York:20250603T090000
DTEND;TZID=America/New_York:20250603T090000
DTSTAMP:20260422T142916
CREATED:20250331T151208Z
LAST-MODIFIED:20250531T132259Z
UID:10010497-1748941200-1748941200@oneillcenter.com
SUMMARY:Men's Breakfast
DESCRIPTION:
URL:https://oneillcenter.com/event/mens-breakfast-30/
CATEGORIES:Marietta
END:VEVENT
BEGIN:VEVENT
DTSTART;TZID=America/New_York:20250602T180000
DTEND;TZID=America/New_York:20250602T180000
DTSTAMP:20260422T142916
CREATED:20250331T151208Z
LAST-MODIFIED:20250531T132256Z
UID:10010496-1748887200-1748887200@oneillcenter.com
SUMMARY:Stampin' Up
DESCRIPTION:
URL:https://oneillcenter.com/event/stampin-up-26/
CATEGORIES:Marietta
END:VEVENT
BEGIN:VEVENT
DTSTART;TZID=America/New_York:20250602T133000
DTEND;TZID=America/New_York:20250602T133000
DTSTAMP:20260422T142916
CREATED:20250331T151207Z
LAST-MODIFIED:20250531T132257Z
UID:10010495-1748871000-1748871000@oneillcenter.com
SUMMARY:Rocky Road Day
DESCRIPTION:
URL:https://oneillcenter.com/event/rocky-road-day/
CATEGORIES:Marietta
END:VEVENT
BEGIN:VEVENT
DTSTART;TZID=America/New_York:20250602T123000
DTEND;TZID=America/New_York:20250602T123000
DTSTAMP:20260422T142916
CREATED:20250331T151206Z
LAST-MODIFIED:20250531T132256Z
UID:10010494-1748867400-1748867400@oneillcenter.com
SUMMARY:Painting with Joyce
DESCRIPTION:
URL:https://oneillcenter.com/event/painting-with-joyce-18/
CATEGORIES:Marietta
END:VEVENT
BEGIN:VEVENT
DTSTART;TZID=America/New_York:20250602T113000
DTEND;TZID=America/New_York:20250602T113000
DTSTAMP:20260422T142916
CREATED:20250331T151206Z
LAST-MODIFIED:20250531T132256Z
UID:10010493-1748863800-1748863800@oneillcenter.com
SUMMARY:Zumba
DESCRIPTION:
URL:https://oneillcenter.com/event/zumba-514/
CATEGORIES:Marietta
END:VEVENT
BEGIN:VEVENT
DTSTART;TZID=America/New_York:20250602T100000
DTEND;TZID=America/New_York:20250602T100000
DTSTAMP:20260422T142916
CREATED:20250531T132255Z
LAST-MODIFIED:20250531T132255Z
UID:10011043-1748858400-1748858400@oneillcenter.com
SUMMARY:Chair Exercise
DESCRIPTION:
URL:https://oneillcenter.com/event/chair-exercise-586/
CATEGORIES:Marietta
END:VEVENT
BEGIN:VEVENT
DTSTART;TZID=America/New_York:20250530T133000
DTEND;TZID=America/New_York:20250530T133000
DTSTAMP:20260422T142916
CREATED:20250331T151106Z
LAST-MODIFIED:20250520T143623Z
UID:10010491-1748611800-1748611800@oneillcenter.com
SUMMARY:Chair Exercise
DESCRIPTION:
URL:https://oneillcenter.com/event/chair-exercise-515/
CATEGORIES:Marietta
END:VEVENT
BEGIN:VEVENT
DTSTART;TZID=America/New_York:20250530T130000
DTEND;TZID=America/New_York:20250530T130000
DTSTAMP:20260422T142916
CREATED:20250331T151106Z
LAST-MODIFIED:20250520T143635Z
UID:10010490-1748610000-1748610000@oneillcenter.com
SUMMARY:Spades
DESCRIPTION:
URL:https://oneillcenter.com/event/spades-22/
CATEGORIES:Marietta
END:VEVENT
BEGIN:VEVENT
DTSTART;TZID=America/New_York:20250530T123000
DTEND;TZID=America/New_York:20250530T123000
DTSTAMP:20260422T142916
CREATED:20250331T151105Z
LAST-MODIFIED:20250520T143622Z
UID:10010489-1748608200-1748608200@oneillcenter.com
SUMMARY:Chair Volleyball
DESCRIPTION:
URL:https://oneillcenter.com/event/chair-volleyball-500/
CATEGORIES:Marietta
END:VEVENT
BEGIN:VEVENT
DTSTART;TZID=America/New_York:20250530T100000
DTEND;TZID=America/New_York:20250530T100000
DTSTAMP:20260422T142916
CREATED:20250331T151105Z
LAST-MODIFIED:20250520T143636Z
UID:10010488-1748599200-1748599200@oneillcenter.com
SUMMARY:Flip the Script on Aging
DESCRIPTION:
URL:https://oneillcenter.com/event/flip-the-script-on-aging/
CATEGORIES:Marietta
END:VEVENT
BEGIN:VEVENT
DTSTART;TZID=America/New_York:20250529T173000
DTEND;TZID=America/New_York:20250529T173000
DTSTAMP:20260422T142916
CREATED:20250331T151031Z
LAST-MODIFIED:20250520T143622Z
UID:10010487-1748539800-1748539800@oneillcenter.com
SUMMARY:Zumba
DESCRIPTION:
URL:https://oneillcenter.com/event/zumba-513/
CATEGORIES:Marietta
END:VEVENT
BEGIN:VEVENT
DTSTART;TZID=America/New_York:20250529T130000
DTEND;TZID=America/New_York:20250529T130000
DTSTAMP:20260422T142916
CREATED:20250331T151030Z
LAST-MODIFIED:20250520T143620Z
UID:10010486-1748523600-1748523600@oneillcenter.com
SUMMARY:Hand and Foot
DESCRIPTION:
URL:https://oneillcenter.com/event/hand-and-foot-130/
CATEGORIES:Marietta
END:VEVENT
BEGIN:VEVENT
DTSTART;TZID=America/New_York:20250529T093000
DTEND;TZID=America/New_York:20250529T093000
DTSTAMP:20260422T142916
CREATED:20250331T151028Z
LAST-MODIFIED:20250520T143621Z
UID:10010485-1748511000-1748511000@oneillcenter.com
SUMMARY:Bingo
DESCRIPTION:
URL:https://oneillcenter.com/event/bingo-167/
CATEGORIES:Marietta
END:VEVENT
BEGIN:VEVENT
DTSTART;TZID=America/New_York:20250528T173000
DTEND;TZID=America/New_York:20250528T173000
DTSTAMP:20260422T142916
CREATED:20250331T151027Z
LAST-MODIFIED:20250520T143552Z
UID:10010484-1748453400-1748453400@oneillcenter.com
SUMMARY:Zumba
DESCRIPTION:
URL:https://oneillcenter.com/event/zumba-512/
CATEGORIES:Marietta
END:VEVENT
BEGIN:VEVENT
DTSTART;TZID=America/New_York:20250528T140000
DTEND;TZID=America/New_York:20250528T140000
DTSTAMP:20260422T142916
CREATED:20250331T151010Z
LAST-MODIFIED:20250520T143605Z
UID:10010483-1748440800-1748440800@oneillcenter.com
SUMMARY:Tai Chi Advanced
DESCRIPTION:
URL:https://oneillcenter.com/event/tai-chi-advanced-3/
CATEGORIES:Marietta
END:VEVENT
BEGIN:VEVENT
DTSTART;TZID=America/New_York:20250528T130000
DTEND;TZID=America/New_York:20250528T130000
DTSTAMP:20260422T142916
CREATED:20250331T151007Z
LAST-MODIFIED:20250520T143552Z
UID:10010480-1748437200-1748437200@oneillcenter.com
SUMMARY:Euchre
DESCRIPTION:
URL:https://oneillcenter.com/event/euchre-164/
CATEGORIES:Marietta
END:VEVENT
BEGIN:VEVENT
DTSTART;TZID=America/New_York:20250528T100000
DTEND;TZID=America/New_York:20250528T100000
DTSTAMP:20260422T142916
CREATED:20250331T150906Z
LAST-MODIFIED:20250520T143553Z
UID:10010478-1748426400-1748426400@oneillcenter.com
SUMMARY:Chair Volleyball
DESCRIPTION:
URL:https://oneillcenter.com/event/chair-volleyball-499/
CATEGORIES:Marietta
END:VEVENT
BEGIN:VEVENT
DTSTART;TZID=America/New_York:20250527T173000
DTEND;TZID=America/New_York:20250527T173000
DTSTAMP:20260422T142916
CREATED:20250331T150906Z
LAST-MODIFIED:20250520T143536Z
UID:10010477-1748367000-1748367000@oneillcenter.com
SUMMARY:Zumba
DESCRIPTION:
URL:https://oneillcenter.com/event/zumba-511/
CATEGORIES:Marietta
END:VEVENT
BEGIN:VEVENT
DTSTART;TZID=America/New_York:20250527T150000
DTEND;TZID=America/New_York:20250527T150000
DTSTAMP:20260422T142916
CREATED:20250331T150905Z
LAST-MODIFIED:20250520T143551Z
UID:10010476-1748358000-1748358000@oneillcenter.com
SUMMARY:Ball Room Dancing with John & Kate
DESCRIPTION:
URL:https://oneillcenter.com/event/ball-room-dancing-with-john-kate-4/
CATEGORIES:Marietta
END:VEVENT
BEGIN:VEVENT
DTSTART;TZID=America/New_York:20250527T130000
DTEND;TZID=America/New_York:20250527T130000
DTSTAMP:20260422T142916
CREATED:20250331T150905Z
LAST-MODIFIED:20250520T143537Z
UID:10010475-1748350800-1748350800@oneillcenter.com
SUMMARY:Knot Just Knitting
DESCRIPTION:
URL:https://oneillcenter.com/event/knot-just-knitting-38/
CATEGORIES:Marietta
END:VEVENT
BEGIN:VEVENT
DTSTART;TZID=America/New_York:20250527T130000
DTEND;TZID=America/New_York:20250527T130000
DTSTAMP:20260422T142916
CREATED:20250331T150904Z
LAST-MODIFIED:20250520T143535Z
UID:10010474-1748350800-1748350800@oneillcenter.com
SUMMARY:Bridge
DESCRIPTION:
URL:https://oneillcenter.com/event/bridge-167/
CATEGORIES:Marietta
END:VEVENT
BEGIN:VEVENT
DTSTART;TZID=America/New_York:20250527T123000
DTEND;TZID=America/New_York:20250527T123000
DTSTAMP:20260422T142916
CREATED:20250331T150828Z
LAST-MODIFIED:20250520T143550Z
UID:10010473-1748349000-1748349000@oneillcenter.com
SUMMARY:Beginner Knitting
DESCRIPTION:
URL:https://oneillcenter.com/event/beginner-knitting-4/
CATEGORIES:Marietta
END:VEVENT
BEGIN:VEVENT
DTSTART;TZID=America/New_York:20250527T100000
DTEND;TZID=America/New_York:20250527T100000
DTSTAMP:20260422T142916
CREATED:20250331T150828Z
LAST-MODIFIED:20250520T143537Z
UID:10010472-1748340000-1748340000@oneillcenter.com
SUMMARY:Gentle Yoga
DESCRIPTION:
URL:https://oneillcenter.com/event/gentle-yoga-159/
CATEGORIES:Marietta
END:VEVENT
BEGIN:VEVENT
DTSTART;TZID=America/New_York:20250527T000000
DTEND;TZID=America/New_York:20250527T000000
DTSTAMP:20260422T142916
CREATED:20250331T150828Z
LAST-MODIFIED:20250520T143538Z
UID:10010471-1748304000-1748304000@oneillcenter.com
SUMMARY:Mani Pedis
DESCRIPTION:
URL:https://oneillcenter.com/event/mani-pedis-66/
CATEGORIES:Marietta
END:VEVENT
BEGIN:VEVENT
DTSTART;TZID=America/New_York:20250526T150000
DTEND;TZID=America/New_York:20250526T150000
DTSTAMP:20260422T142916
CREATED:20250331T150827Z
LAST-MODIFIED:20250331T150827Z
UID:10010470-1748271600-1748271600@oneillcenter.com
SUMMARY:Grief & Mourning Support Group
DESCRIPTION:
URL:https://oneillcenter.com/event/grief-mourning-support-group-24/
CATEGORIES:Marietta
END:VEVENT
BEGIN:VEVENT
DTSTART;TZID=America/New_York:20250526T113000
DTEND;TZID=America/New_York:20250526T113000
DTSTAMP:20260422T142916
CREATED:20250331T150826Z
LAST-MODIFIED:20250520T143522Z
UID:10010469-1748259000-1748259000@oneillcenter.com
SUMMARY:Zumba
DESCRIPTION:
URL:https://oneillcenter.com/event/zumba-510/
CATEGORIES:Marietta
END:VEVENT
BEGIN:VEVENT
DTSTART;TZID=America/New_York:20250526T100000
DTEND;TZID=America/New_York:20250526T100000
DTSTAMP:20260422T142916
CREATED:20250520T143522Z
LAST-MODIFIED:20250520T143522Z
UID:10010806-1748253600-1748253600@oneillcenter.com
SUMMARY:Chair Exercise
DESCRIPTION:
URL:https://oneillcenter.com/event/chair-exercise-554/
CATEGORIES:Marietta
END:VEVENT
BEGIN:VEVENT
DTSTART;TZID=America/New_York:20250526T000000
DTEND;TZID=America/New_York:20250526T000000
DTSTAMP:20260422T142916
CREATED:20250331T150806Z
LAST-MODIFIED:20250520T143523Z
UID:10010467-1748217600-1748217600@oneillcenter.com
SUMMARY:CLOSED HOLIDAY
DESCRIPTION:
URL:https://oneillcenter.com/event/closed-holiday/
CATEGORIES:Marietta
END:VEVENT
BEGIN:VEVENT
DTSTART;TZID=America/New_York:20250523T130000
DTEND;TZID=America/New_York:20250523T130000
DTSTAMP:20260422T142916
CREATED:20250331T150805Z
LAST-MODIFIED:20250520T143521Z
UID:10010465-1748005200-1748005200@oneillcenter.com
SUMMARY:Spades
DESCRIPTION:
URL:https://oneillcenter.com/event/spades-21/
CATEGORIES:Marietta
END:VEVENT
END:VCALENDAR