BEGIN:VCALENDAR
VERSION:2.0
PRODID:-//ONeill Center - ECPv6.15.20//NONSGML v1.0//EN
CALSCALE:GREGORIAN
METHOD:PUBLISH
X-WR-CALNAME:ONeill Center
X-ORIGINAL-URL:https://oneillcenter.com
X-WR-CALDESC:Events for ONeill Center
REFRESH-INTERVAL;VALUE=DURATION:PT1H
X-Robots-Tag:noindex
X-PUBLISHED-TTL:PT1H
BEGIN:VTIMEZONE
TZID:America/New_York
BEGIN:DAYLIGHT
TZOFFSETFROM:-0500
TZOFFSETTO:-0400
TZNAME:EDT
DTSTART:20240310T070000
END:DAYLIGHT
BEGIN:STANDARD
TZOFFSETFROM:-0400
TZOFFSETTO:-0500
TZNAME:EST
DTSTART:20241103T060000
END:STANDARD
BEGIN:DAYLIGHT
TZOFFSETFROM:-0500
TZOFFSETTO:-0400
TZNAME:EDT
DTSTART:20250309T070000
END:DAYLIGHT
BEGIN:STANDARD
TZOFFSETFROM:-0400
TZOFFSETTO:-0500
TZNAME:EST
DTSTART:20251102T060000
END:STANDARD
BEGIN:DAYLIGHT
TZOFFSETFROM:-0500
TZOFFSETTO:-0400
TZNAME:EDT
DTSTART:20260308T070000
END:DAYLIGHT
BEGIN:STANDARD
TZOFFSETFROM:-0400
TZOFFSETTO:-0500
TZNAME:EST
DTSTART:20261101T060000
END:STANDARD
END:VTIMEZONE
BEGIN:VEVENT
DTSTART;TZID=America/New_York:20250605T173000
DTEND;TZID=America/New_York:20250605T173000
DTSTAMP:20260422T114447
CREATED:20250331T151606Z
LAST-MODIFIED:20250531T132329Z
UID:10010515-1749144600-1749144600@oneillcenter.com
SUMMARY:Zumba
DESCRIPTION:
URL:https://oneillcenter.com/event/zumba-517/
CATEGORIES:Marietta
END:VEVENT
BEGIN:VEVENT
DTSTART;TZID=America/New_York:20250605T130000
DTEND;TZID=America/New_York:20250605T130000
DTSTAMP:20260422T114447
CREATED:20250331T151605Z
LAST-MODIFIED:20250531T132329Z
UID:10010514-1749128400-1749128400@oneillcenter.com
SUMMARY:Hand and Foot
DESCRIPTION:
URL:https://oneillcenter.com/event/hand-and-foot-131/
CATEGORIES:Marietta
END:VEVENT
BEGIN:VEVENT
DTSTART;TZID=America/New_York:20250605T093000
DTEND;TZID=America/New_York:20250605T093000
DTSTAMP:20260422T114447
CREATED:20250331T151605Z
LAST-MODIFIED:20250531T132329Z
UID:10010513-1749115800-1749115800@oneillcenter.com
SUMMARY:Bingo
DESCRIPTION:
URL:https://oneillcenter.com/event/bingo-168/
CATEGORIES:Marietta
END:VEVENT
BEGIN:VEVENT
DTSTART;TZID=America/New_York:20250605T090000
DTEND;TZID=America/New_York:20250605T090000
DTSTAMP:20260422T114447
CREATED:20250331T151509Z
LAST-MODIFIED:20250531T132315Z
UID:10010512-1749114000-1749114000@oneillcenter.com
SUMMARY:Men's Billiard Tournament
DESCRIPTION:
URL:https://oneillcenter.com/event/mens-billiard-tournament-77/
CATEGORIES:Marietta
END:VEVENT
BEGIN:VEVENT
DTSTART;TZID=America/New_York:20250605T083000
DTEND;TZID=America/New_York:20250605T083000
DTSTAMP:20260422T114447
CREATED:20250331T151508Z
LAST-MODIFIED:20250531T132329Z
UID:10010511-1749112200-1749112200@oneillcenter.com
SUMMARY:Blood Pressure\, Blood Sugar Checks
DESCRIPTION:
URL:https://oneillcenter.com/event/blood-pressure-blood-sugar-checks-4/
CATEGORIES:Marietta
END:VEVENT
BEGIN:VEVENT
DTSTART;TZID=America/New_York:20250604T173000
DTEND;TZID=America/New_York:20250604T173000
DTSTAMP:20260422T114447
CREATED:20250331T151507Z
LAST-MODIFIED:20250531T132305Z
UID:10010510-1749058200-1749058200@oneillcenter.com
SUMMARY:Zumba
DESCRIPTION:
URL:https://oneillcenter.com/event/zumba-516/
CATEGORIES:Marietta
END:VEVENT
BEGIN:VEVENT
DTSTART;TZID=America/New_York:20250604T133000
DTEND;TZID=America/New_York:20250604T133000
DTSTAMP:20260422T114447
CREATED:20250531T132314Z
LAST-MODIFIED:20250531T132314Z
UID:10011044-1749043800-1749043800@oneillcenter.com
SUMMARY:Beginner Tai Chi
DESCRIPTION:
URL:https://oneillcenter.com/event/beginner-tai-chi-150/
CATEGORIES:Marietta
END:VEVENT
BEGIN:VEVENT
DTSTART;TZID=America/New_York:20250604T130000
DTEND;TZID=America/New_York:20250604T130000
DTSTAMP:20260422T114447
CREATED:20250331T151505Z
LAST-MODIFIED:20250531T132314Z
UID:10010508-1749042000-1749042000@oneillcenter.com
SUMMARY:Say Cheese!
DESCRIPTION:
URL:https://oneillcenter.com/event/say-cheese/
CATEGORIES:Marietta
END:VEVENT
BEGIN:VEVENT
DTSTART;TZID=America/New_York:20250604T130000
DTEND;TZID=America/New_York:20250604T130000
DTSTAMP:20260422T114447
CREATED:20250331T151408Z
LAST-MODIFIED:20250531T132304Z
UID:10010507-1749042000-1749042000@oneillcenter.com
SUMMARY:Euchre
DESCRIPTION:
URL:https://oneillcenter.com/event/euchre-165/
CATEGORIES:Marietta
END:VEVENT
BEGIN:VEVENT
DTSTART;TZID=America/New_York:20250604T120000
DTEND;TZID=America/New_York:20250604T120000
DTSTAMP:20260422T114447
CREATED:20250331T151408Z
LAST-MODIFIED:20250531T132313Z
UID:10010506-1749038400-1749038400@oneillcenter.com
SUMMARY:Monthly B-day Party
DESCRIPTION:
URL:https://oneillcenter.com/event/monthly-b-day-party-14/
CATEGORIES:Marietta
END:VEVENT
BEGIN:VEVENT
DTSTART;TZID=America/New_York:20250604T100000
DTEND;TZID=America/New_York:20250604T100000
DTSTAMP:20260422T114447
CREATED:20250331T151407Z
LAST-MODIFIED:20250531T132314Z
UID:10010505-1749031200-1749031200@oneillcenter.com
SUMMARY:Chair Volleyball
DESCRIPTION:
URL:https://oneillcenter.com/event/chair-volleyball-501/
CATEGORIES:Marietta
END:VEVENT
BEGIN:VEVENT
DTSTART;TZID=America/New_York:20250603T173000
DTEND;TZID=America/New_York:20250603T173000
DTSTAMP:20260422T114447
CREATED:20250331T151406Z
LAST-MODIFIED:20250531T132259Z
UID:10010504-1748971800-1748971800@oneillcenter.com
SUMMARY:Zumba
DESCRIPTION:
URL:https://oneillcenter.com/event/zumba-515/
CATEGORIES:Marietta
END:VEVENT
BEGIN:VEVENT
DTSTART;TZID=America/New_York:20250603T150000
DTEND;TZID=America/New_York:20250603T150000
DTSTAMP:20260422T114447
CREATED:20250331T151406Z
LAST-MODIFIED:20250531T132304Z
UID:10010503-1748962800-1748962800@oneillcenter.com
SUMMARY:Ball Room Dancing with John & Kate
DESCRIPTION:
URL:https://oneillcenter.com/event/ball-room-dancing-with-john-kate-5/
CATEGORIES:Marietta
END:VEVENT
BEGIN:VEVENT
DTSTART;TZID=America/New_York:20250603T130000
DTEND;TZID=America/New_York:20250603T130000
DTSTAMP:20260422T114447
CREATED:20250331T151307Z
LAST-MODIFIED:20250531T132303Z
UID:10010502-1748955600-1748955600@oneillcenter.com
SUMMARY:Knot Just Knitting
DESCRIPTION:
URL:https://oneillcenter.com/event/knot-just-knitting-39/
CATEGORIES:Marietta
END:VEVENT
BEGIN:VEVENT
DTSTART;TZID=America/New_York:20250603T130000
DTEND;TZID=America/New_York:20250603T130000
DTSTAMP:20260422T114447
CREATED:20250331T151306Z
LAST-MODIFIED:20250531T132259Z
UID:10010501-1748955600-1748955600@oneillcenter.com
SUMMARY:Bridge
DESCRIPTION:
URL:https://oneillcenter.com/event/bridge-168/
CATEGORIES:Marietta
END:VEVENT
BEGIN:VEVENT
DTSTART;TZID=America/New_York:20250603T123000
DTEND;TZID=America/New_York:20250603T123000
DTSTAMP:20260422T114447
CREATED:20250331T151306Z
LAST-MODIFIED:20250531T132304Z
UID:10010500-1748953800-1748953800@oneillcenter.com
SUMMARY:Beginner Knitting
DESCRIPTION:
URL:https://oneillcenter.com/event/beginner-knitting-5/
CATEGORIES:Marietta
END:VEVENT
BEGIN:VEVENT
DTSTART;TZID=America/New_York:20250603T120000
DTEND;TZID=America/New_York:20250603T120000
DTSTAMP:20260422T114447
CREATED:20250331T151305Z
LAST-MODIFIED:20250531T132258Z
UID:10010499-1748952000-1748952000@oneillcenter.com
SUMMARY:Hearing Tests
DESCRIPTION:
URL:https://oneillcenter.com/event/hearing-tests-17/
CATEGORIES:Marietta
END:VEVENT
BEGIN:VEVENT
DTSTART;TZID=America/New_York:20250603T100000
DTEND;TZID=America/New_York:20250603T100000
DTSTAMP:20260422T114447
CREATED:20250331T151305Z
LAST-MODIFIED:20250531T132259Z
UID:10010498-1748944800-1748944800@oneillcenter.com
SUMMARY:Gentle Yoga
DESCRIPTION:
URL:https://oneillcenter.com/event/gentle-yoga-160/
CATEGORIES:Marietta
END:VEVENT
BEGIN:VEVENT
DTSTART;TZID=America/New_York:20250603T090000
DTEND;TZID=America/New_York:20250603T090000
DTSTAMP:20260422T114447
CREATED:20250331T151208Z
LAST-MODIFIED:20250531T132259Z
UID:10010497-1748941200-1748941200@oneillcenter.com
SUMMARY:Men's Breakfast
DESCRIPTION:
URL:https://oneillcenter.com/event/mens-breakfast-30/
CATEGORIES:Marietta
END:VEVENT
BEGIN:VEVENT
DTSTART;TZID=America/New_York:20250602T180000
DTEND;TZID=America/New_York:20250602T180000
DTSTAMP:20260422T114447
CREATED:20250331T151208Z
LAST-MODIFIED:20250531T132256Z
UID:10010496-1748887200-1748887200@oneillcenter.com
SUMMARY:Stampin' Up
DESCRIPTION:
URL:https://oneillcenter.com/event/stampin-up-26/
CATEGORIES:Marietta
END:VEVENT
BEGIN:VEVENT
DTSTART;TZID=America/New_York:20250602T133000
DTEND;TZID=America/New_York:20250602T133000
DTSTAMP:20260422T114447
CREATED:20250331T151207Z
LAST-MODIFIED:20250531T132257Z
UID:10010495-1748871000-1748871000@oneillcenter.com
SUMMARY:Rocky Road Day
DESCRIPTION:
URL:https://oneillcenter.com/event/rocky-road-day/
CATEGORIES:Marietta
END:VEVENT
BEGIN:VEVENT
DTSTART;TZID=America/New_York:20250602T123000
DTEND;TZID=America/New_York:20250602T123000
DTSTAMP:20260422T114447
CREATED:20250331T151206Z
LAST-MODIFIED:20250531T132256Z
UID:10010494-1748867400-1748867400@oneillcenter.com
SUMMARY:Painting with Joyce
DESCRIPTION:
URL:https://oneillcenter.com/event/painting-with-joyce-18/
CATEGORIES:Marietta
END:VEVENT
BEGIN:VEVENT
DTSTART;TZID=America/New_York:20250602T113000
DTEND;TZID=America/New_York:20250602T113000
DTSTAMP:20260422T114447
CREATED:20250331T151206Z
LAST-MODIFIED:20250531T132256Z
UID:10010493-1748863800-1748863800@oneillcenter.com
SUMMARY:Zumba
DESCRIPTION:
URL:https://oneillcenter.com/event/zumba-514/
CATEGORIES:Marietta
END:VEVENT
BEGIN:VEVENT
DTSTART;TZID=America/New_York:20250602T100000
DTEND;TZID=America/New_York:20250602T100000
DTSTAMP:20260422T114447
CREATED:20250531T132255Z
LAST-MODIFIED:20250531T132255Z
UID:10011043-1748858400-1748858400@oneillcenter.com
SUMMARY:Chair Exercise
DESCRIPTION:
URL:https://oneillcenter.com/event/chair-exercise-586/
CATEGORIES:Marietta
END:VEVENT
BEGIN:VEVENT
DTSTART;TZID=America/New_York:20250530T133000
DTEND;TZID=America/New_York:20250530T133000
DTSTAMP:20260422T114447
CREATED:20250331T151106Z
LAST-MODIFIED:20250520T143623Z
UID:10010491-1748611800-1748611800@oneillcenter.com
SUMMARY:Chair Exercise
DESCRIPTION:
URL:https://oneillcenter.com/event/chair-exercise-515/
CATEGORIES:Marietta
END:VEVENT
BEGIN:VEVENT
DTSTART;TZID=America/New_York:20250530T130000
DTEND;TZID=America/New_York:20250530T130000
DTSTAMP:20260422T114447
CREATED:20250331T151106Z
LAST-MODIFIED:20250520T143635Z
UID:10010490-1748610000-1748610000@oneillcenter.com
SUMMARY:Spades
DESCRIPTION:
URL:https://oneillcenter.com/event/spades-22/
CATEGORIES:Marietta
END:VEVENT
BEGIN:VEVENT
DTSTART;TZID=America/New_York:20250530T123000
DTEND;TZID=America/New_York:20250530T123000
DTSTAMP:20260422T114447
CREATED:20250331T151105Z
LAST-MODIFIED:20250520T143622Z
UID:10010489-1748608200-1748608200@oneillcenter.com
SUMMARY:Chair Volleyball
DESCRIPTION:
URL:https://oneillcenter.com/event/chair-volleyball-500/
CATEGORIES:Marietta
END:VEVENT
BEGIN:VEVENT
DTSTART;TZID=America/New_York:20250530T100000
DTEND;TZID=America/New_York:20250530T100000
DTSTAMP:20260422T114447
CREATED:20250331T151105Z
LAST-MODIFIED:20250520T143636Z
UID:10010488-1748599200-1748599200@oneillcenter.com
SUMMARY:Flip the Script on Aging
DESCRIPTION:
URL:https://oneillcenter.com/event/flip-the-script-on-aging/
CATEGORIES:Marietta
END:VEVENT
BEGIN:VEVENT
DTSTART;TZID=America/New_York:20250529T173000
DTEND;TZID=America/New_York:20250529T173000
DTSTAMP:20260422T114447
CREATED:20250331T151031Z
LAST-MODIFIED:20250520T143622Z
UID:10010487-1748539800-1748539800@oneillcenter.com
SUMMARY:Zumba
DESCRIPTION:
URL:https://oneillcenter.com/event/zumba-513/
CATEGORIES:Marietta
END:VEVENT
BEGIN:VEVENT
DTSTART;TZID=America/New_York:20250529T130000
DTEND;TZID=America/New_York:20250529T130000
DTSTAMP:20260422T114447
CREATED:20250331T151030Z
LAST-MODIFIED:20250520T143620Z
UID:10010486-1748523600-1748523600@oneillcenter.com
SUMMARY:Hand and Foot
DESCRIPTION:
URL:https://oneillcenter.com/event/hand-and-foot-130/
CATEGORIES:Marietta
END:VEVENT
END:VCALENDAR