BEGIN:VCALENDAR
VERSION:2.0
PRODID:-//ONeill Center - ECPv6.15.20//NONSGML v1.0//EN
CALSCALE:GREGORIAN
METHOD:PUBLISH
X-ORIGINAL-URL:https://oneillcenter.com
X-WR-CALDESC:Events for ONeill Center
REFRESH-INTERVAL;VALUE=DURATION:PT1H
X-Robots-Tag:noindex
X-PUBLISHED-TTL:PT1H
BEGIN:VTIMEZONE
TZID:America/New_York
BEGIN:DAYLIGHT
TZOFFSETFROM:-0500
TZOFFSETTO:-0400
TZNAME:EDT
DTSTART:20240310T070000
END:DAYLIGHT
BEGIN:STANDARD
TZOFFSETFROM:-0400
TZOFFSETTO:-0500
TZNAME:EST
DTSTART:20241103T060000
END:STANDARD
BEGIN:DAYLIGHT
TZOFFSETFROM:-0500
TZOFFSETTO:-0400
TZNAME:EDT
DTSTART:20250309T070000
END:DAYLIGHT
BEGIN:STANDARD
TZOFFSETFROM:-0400
TZOFFSETTO:-0500
TZNAME:EST
DTSTART:20251102T060000
END:STANDARD
BEGIN:DAYLIGHT
TZOFFSETFROM:-0500
TZOFFSETTO:-0400
TZNAME:EDT
DTSTART:20260308T070000
END:DAYLIGHT
BEGIN:STANDARD
TZOFFSETFROM:-0400
TZOFFSETTO:-0500
TZNAME:EST
DTSTART:20261101T060000
END:STANDARD
END:VTIMEZONE
BEGIN:VEVENT
DTSTART;TZID=America/New_York:20250619T093000
DTEND;TZID=America/New_York:20250619T093000
DTSTAMP:20260422T032044
CREATED:20250331T152306Z
LAST-MODIFIED:20250531T132529Z
UID:10010566-1750325400-1750325400@oneillcenter.com
SUMMARY:Bingo
DESCRIPTION:
URL:https://oneillcenter.com/event/bingo-170/
CATEGORIES:Marietta
END:VEVENT
BEGIN:VEVENT
DTSTART;TZID=America/New_York:20250619T000000
DTEND;TZID=America/New_York:20250619T000000
DTSTAMP:20260422T032044
CREATED:20250331T152305Z
LAST-MODIFIED:20250531T132530Z
UID:10010564-1750291200-1750291200@oneillcenter.com
SUMMARY:CLOSED HOLIDAY
DESCRIPTION:
URL:https://oneillcenter.com/event/closed-holiday-2/
CATEGORIES:Marietta
END:VEVENT
BEGIN:VEVENT
DTSTART;TZID=America/New_York:20250618T173000
DTEND;TZID=America/New_York:20250618T173000
DTSTAMP:20260422T032044
CREATED:20250331T152304Z
LAST-MODIFIED:20250531T132514Z
UID:10010563-1750267800-1750267800@oneillcenter.com
SUMMARY:Zumba
DESCRIPTION:
URL:https://oneillcenter.com/event/zumba-524/
CATEGORIES:Marietta
END:VEVENT
BEGIN:VEVENT
DTSTART;TZID=America/New_York:20250618T140000
DTEND;TZID=America/New_York:20250618T140000
DTSTAMP:20260422T032044
CREATED:20250331T152239Z
LAST-MODIFIED:20250531T132515Z
UID:10010562-1750255200-1750255200@oneillcenter.com
SUMMARY:Tai Chi Advanced
DESCRIPTION:
URL:https://oneillcenter.com/event/tai-chi-advanced-5/
CATEGORIES:Marietta
END:VEVENT
BEGIN:VEVENT
DTSTART;TZID=America/New_York:20250618T133000
DTEND;TZID=America/New_York:20250618T133000
DTSTAMP:20260422T032044
CREATED:20250331T152238Z
LAST-MODIFIED:20250531T132514Z
UID:10010561-1750253400-1750253400@oneillcenter.com
SUMMARY:Tai Chi Beginner
DESCRIPTION:
URL:https://oneillcenter.com/event/tai-chi-beginner-6/
CATEGORIES:Marietta
END:VEVENT
BEGIN:VEVENT
DTSTART;TZID=America/New_York:20250618T130000
DTEND;TZID=America/New_York:20250618T130000
DTSTAMP:20260422T032044
CREATED:20250331T152238Z
LAST-MODIFIED:20250531T132514Z
UID:10010560-1750251600-1750251600@oneillcenter.com
SUMMARY:Euchre
DESCRIPTION:
URL:https://oneillcenter.com/event/euchre-167/
CATEGORIES:Marietta
END:VEVENT
BEGIN:VEVENT
DTSTART;TZID=America/New_York:20250618T123000
DTEND;TZID=America/New_York:20250618T123000
DTSTAMP:20260422T032044
CREATED:20250331T152237Z
LAST-MODIFIED:20250531T132529Z
UID:10010559-1750249800-1750249800@oneillcenter.com
SUMMARY:Picnic Day
DESCRIPTION:
URL:https://oneillcenter.com/event/picnic-day/
CATEGORIES:Marietta
END:VEVENT
BEGIN:VEVENT
DTSTART;TZID=America/New_York:20250618T100000
DTEND;TZID=America/New_York:20250618T100000
DTSTAMP:20260422T032044
CREATED:20250331T152236Z
LAST-MODIFIED:20250531T132514Z
UID:10010558-1750240800-1750240800@oneillcenter.com
SUMMARY:Quilting group
DESCRIPTION:
URL:https://oneillcenter.com/event/quilting-group-80/
CATEGORIES:Marietta
END:VEVENT
BEGIN:VEVENT
DTSTART;TZID=America/New_York:20250617T173000
DTEND;TZID=America/New_York:20250617T173000
DTSTAMP:20260422T032044
CREATED:20250331T152206Z
LAST-MODIFIED:20250531T132500Z
UID:10010557-1750181400-1750181400@oneillcenter.com
SUMMARY:Zumba
DESCRIPTION:
URL:https://oneillcenter.com/event/zumba-523/
CATEGORIES:Marietta
END:VEVENT
BEGIN:VEVENT
DTSTART;TZID=America/New_York:20250617T150000
DTEND;TZID=America/New_York:20250617T150000
DTSTAMP:20260422T032044
CREATED:20250331T152206Z
LAST-MODIFIED:20250531T132505Z
UID:10010556-1750172400-1750172400@oneillcenter.com
SUMMARY:Ball Room Dancing with John & Kate
DESCRIPTION:
URL:https://oneillcenter.com/event/ball-room-dancing-with-john-kate-7/
CATEGORIES:Marietta
END:VEVENT
BEGIN:VEVENT
DTSTART;TZID=America/New_York:20250617T130000
DTEND;TZID=America/New_York:20250617T130000
DTSTAMP:20260422T032044
CREATED:20250331T152205Z
LAST-MODIFIED:20250531T132500Z
UID:10010554-1750165200-1750165200@oneillcenter.com
SUMMARY:Bridge
DESCRIPTION:
URL:https://oneillcenter.com/event/bridge-170/
CATEGORIES:Marietta
END:VEVENT
BEGIN:VEVENT
DTSTART;TZID=America/New_York:20250617T130000
DTEND;TZID=America/New_York:20250617T130000
DTSTAMP:20260422T032044
CREATED:20250331T152205Z
LAST-MODIFIED:20250531T132504Z
UID:10010555-1750165200-1750165200@oneillcenter.com
SUMMARY:Knot Just Knitting
DESCRIPTION:
URL:https://oneillcenter.com/event/knot-just-knitting-41/
CATEGORIES:Marietta
END:VEVENT
BEGIN:VEVENT
DTSTART;TZID=America/New_York:20250617T123000
DTEND;TZID=America/New_York:20250617T123000
DTSTAMP:20260422T032044
CREATED:20250331T152204Z
LAST-MODIFIED:20250531T132505Z
UID:10010553-1750163400-1750163400@oneillcenter.com
SUMMARY:Beginner Knitting
DESCRIPTION:
URL:https://oneillcenter.com/event/beginner-knitting-7/
CATEGORIES:Marietta
END:VEVENT
BEGIN:VEVENT
DTSTART;TZID=America/New_York:20250617T100000
DTEND;TZID=America/New_York:20250617T100000
DTSTAMP:20260422T032044
CREATED:20250331T152107Z
LAST-MODIFIED:20250531T132504Z
UID:10010552-1750154400-1750154400@oneillcenter.com
SUMMARY:Gentle Yoga
DESCRIPTION:
URL:https://oneillcenter.com/event/gentle-yoga-162/
CATEGORIES:Marietta
END:VEVENT
BEGIN:VEVENT
DTSTART;TZID=America/New_York:20250617T100000
DTEND;TZID=America/New_York:20250617T100000
DTSTAMP:20260422T032044
CREATED:20250331T152106Z
LAST-MODIFIED:20250531T132459Z
UID:10010551-1750154400-1750154400@oneillcenter.com
SUMMARY:Book Club
DESCRIPTION:
URL:https://oneillcenter.com/event/book-club-40/
CATEGORIES:Marietta
END:VEVENT
BEGIN:VEVENT
DTSTART;TZID=America/New_York:20250617T000000
DTEND;TZID=America/New_York:20250617T000000
DTSTAMP:20260422T032044
CREATED:20250331T152106Z
LAST-MODIFIED:20250531T132505Z
UID:10010550-1750118400-1750118400@oneillcenter.com
SUMMARY:Mani Pedis
DESCRIPTION:
URL:https://oneillcenter.com/event/mani-pedis-68/
CATEGORIES:Marietta
END:VEVENT
BEGIN:VEVENT
DTSTART;TZID=America/New_York:20250616T113000
DTEND;TZID=America/New_York:20250616T113000
DTSTAMP:20260422T032044
CREATED:20250331T152105Z
LAST-MODIFIED:20250531T132459Z
UID:10010549-1750073400-1750073400@oneillcenter.com
SUMMARY:Zumba
DESCRIPTION:
URL:https://oneillcenter.com/event/zumba-522/
CATEGORIES:Marietta
END:VEVENT
BEGIN:VEVENT
DTSTART;TZID=America/New_York:20250616T100000
DTEND;TZID=America/New_York:20250616T100000
DTSTAMP:20260422T032044
CREATED:20250531T132459Z
LAST-MODIFIED:20250531T132459Z
UID:10011046-1750068000-1750068000@oneillcenter.com
SUMMARY:Chair Exercise
DESCRIPTION:
URL:https://oneillcenter.com/event/chair-exercise-588/
CATEGORIES:Marietta
END:VEVENT
BEGIN:VEVENT
DTSTART;TZID=America/New_York:20250613T133000
DTEND;TZID=America/New_York:20250613T133000
DTSTAMP:20260422T032044
CREATED:20250331T152038Z
LAST-MODIFIED:20250531T132444Z
UID:10010547-1749821400-1749821400@oneillcenter.com
SUMMARY:Chair Exercise
DESCRIPTION:
URL:https://oneillcenter.com/event/chair-exercise-519/
CATEGORIES:Marietta
END:VEVENT
BEGIN:VEVENT
DTSTART;TZID=America/New_York:20250613T130000
DTEND;TZID=America/New_York:20250613T130000
DTSTAMP:20260422T032044
CREATED:20250331T152038Z
LAST-MODIFIED:20250531T132445Z
UID:10010546-1749819600-1749819600@oneillcenter.com
SUMMARY:Flip Flop Welcome Sign
DESCRIPTION:
URL:https://oneillcenter.com/event/flip-flop-welcome-sign/
CATEGORIES:Marietta
END:VEVENT
BEGIN:VEVENT
DTSTART;TZID=America/New_York:20250613T130000
DTEND;TZID=America/New_York:20250613T130000
DTSTAMP:20260422T032044
CREATED:20250331T152037Z
LAST-MODIFIED:20250531T132444Z
UID:10010545-1749819600-1749819600@oneillcenter.com
SUMMARY:Spades
DESCRIPTION:
URL:https://oneillcenter.com/event/spades-24/
CATEGORIES:Marietta
END:VEVENT
BEGIN:VEVENT
DTSTART;TZID=America/New_York:20250613T123000
DTEND;TZID=America/New_York:20250613T123000
DTSTAMP:20260422T032044
CREATED:20250331T152037Z
LAST-MODIFIED:20250531T132444Z
UID:10010544-1749817800-1749817800@oneillcenter.com
SUMMARY:Chair Volleyball
DESCRIPTION:
URL:https://oneillcenter.com/event/chair-volleyball-503/
CATEGORIES:Marietta
END:VEVENT
BEGIN:VEVENT
DTSTART;TZID=America/New_York:20250613T090000
DTEND;TZID=America/New_York:20250613T090000
DTSTAMP:20260422T032044
CREATED:20250331T152036Z
LAST-MODIFIED:20250531T132443Z
UID:10010543-1749805200-1749805200@oneillcenter.com
SUMMARY:Men's Billiard Tournament
DESCRIPTION:
URL:https://oneillcenter.com/event/mens-billiard-tournament-78/
CATEGORIES:Marietta
END:VEVENT
BEGIN:VEVENT
DTSTART;TZID=America/New_York:20250612T173000
DTEND;TZID=America/New_York:20250612T173000
DTSTAMP:20260422T032044
CREATED:20250331T152011Z
LAST-MODIFIED:20250531T132430Z
UID:10010542-1749749400-1749749400@oneillcenter.com
SUMMARY:Zumba
DESCRIPTION:
URL:https://oneillcenter.com/event/zumba-521/
CATEGORIES:Marietta
END:VEVENT
BEGIN:VEVENT
DTSTART;TZID=America/New_York:20250612T130000
DTEND;TZID=America/New_York:20250612T130000
DTSTAMP:20260422T032044
CREATED:20250331T152010Z
LAST-MODIFIED:20250531T132430Z
UID:10010541-1749733200-1749733200@oneillcenter.com
SUMMARY:Card Making Class
DESCRIPTION:
URL:https://oneillcenter.com/event/card-making-class/
CATEGORIES:Marietta
END:VEVENT
BEGIN:VEVENT
DTSTART;TZID=America/New_York:20250612T130000
DTEND;TZID=America/New_York:20250612T130000
DTSTAMP:20260422T032044
CREATED:20250331T152009Z
LAST-MODIFIED:20250531T132429Z
UID:10010540-1749733200-1749733200@oneillcenter.com
SUMMARY:Hand and Foot
DESCRIPTION:
URL:https://oneillcenter.com/event/hand-and-foot-132/
CATEGORIES:Marietta
END:VEVENT
BEGIN:VEVENT
DTSTART;TZID=America/New_York:20250612T093000
DTEND;TZID=America/New_York:20250612T093000
DTSTAMP:20260422T032044
CREATED:20250331T152008Z
LAST-MODIFIED:20250531T132429Z
UID:10010539-1749720600-1749720600@oneillcenter.com
SUMMARY:Bingo
DESCRIPTION:
URL:https://oneillcenter.com/event/bingo-169/
CATEGORIES:Marietta
END:VEVENT
BEGIN:VEVENT
DTSTART;TZID=America/New_York:20250611T173000
DTEND;TZID=America/New_York:20250611T173000
DTSTAMP:20260422T032044
CREATED:20250331T152007Z
LAST-MODIFIED:20250531T132414Z
UID:10010538-1749663000-1749663000@oneillcenter.com
SUMMARY:Zumba
DESCRIPTION:
URL:https://oneillcenter.com/event/zumba-520/
CATEGORIES:Marietta
END:VEVENT
BEGIN:VEVENT
DTSTART;TZID=America/New_York:20250611T140000
DTEND;TZID=America/New_York:20250611T140000
DTSTAMP:20260422T032044
CREATED:20250331T151907Z
LAST-MODIFIED:20250531T132415Z
UID:10010537-1749650400-1749650400@oneillcenter.com
SUMMARY:Tai Chi Advanced
DESCRIPTION:
URL:https://oneillcenter.com/event/tai-chi-advanced-4/
CATEGORIES:Marietta
END:VEVENT
BEGIN:VEVENT
DTSTART;TZID=America/New_York:20250611T133000
DTEND;TZID=America/New_York:20250611T133000
DTSTAMP:20260422T032044
CREATED:20250331T151906Z
LAST-MODIFIED:20250531T132414Z
UID:10010536-1749648600-1749648600@oneillcenter.com
SUMMARY:Tai Chi Beginner
DESCRIPTION:
URL:https://oneillcenter.com/event/tai-chi-beginner-5/
CATEGORIES:Marietta
END:VEVENT
END:VCALENDAR