BEGIN:VCALENDAR
VERSION:2.0
PRODID:-//ONeill Center - ECPv6.15.20//NONSGML v1.0//EN
CALSCALE:GREGORIAN
METHOD:PUBLISH
X-ORIGINAL-URL:https://oneillcenter.com
X-WR-CALDESC:Events for ONeill Center
REFRESH-INTERVAL;VALUE=DURATION:PT1H
X-Robots-Tag:noindex
X-PUBLISHED-TTL:PT1H
BEGIN:VTIMEZONE
TZID:America/New_York
BEGIN:DAYLIGHT
TZOFFSETFROM:-0500
TZOFFSETTO:-0400
TZNAME:EDT
DTSTART:20250309T070000
END:DAYLIGHT
BEGIN:STANDARD
TZOFFSETFROM:-0400
TZOFFSETTO:-0500
TZNAME:EST
DTSTART:20251102T060000
END:STANDARD
BEGIN:DAYLIGHT
TZOFFSETFROM:-0500
TZOFFSETTO:-0400
TZNAME:EDT
DTSTART:20260308T070000
END:DAYLIGHT
BEGIN:STANDARD
TZOFFSETFROM:-0400
TZOFFSETTO:-0500
TZNAME:EST
DTSTART:20261101T060000
END:STANDARD
BEGIN:DAYLIGHT
TZOFFSETFROM:-0500
TZOFFSETTO:-0400
TZNAME:EDT
DTSTART:20270314T070000
END:DAYLIGHT
BEGIN:STANDARD
TZOFFSETFROM:-0400
TZOFFSETTO:-0500
TZNAME:EST
DTSTART:20271107T060000
END:STANDARD
END:VTIMEZONE
BEGIN:VEVENT
DTSTART;TZID=America/New_York:20260429T110000
DTEND;TZID=America/New_York:20260429T110000
DTSTAMP:20260425T092548
CREATED:20260320T150805Z
LAST-MODIFIED:20260320T151507Z
UID:10012813-1777460400-1777460400@oneillcenter.com
SUMMARY:Chair Weightlifting
DESCRIPTION:
URL:https://oneillcenter.com/event/chair-weightlifting-130/
CATEGORIES:Belpre
END:VEVENT
BEGIN:VEVENT
DTSTART;TZID=America/New_York:20260429T113000
DTEND;TZID=America/New_York:20260429T113000
DTSTAMP:20260425T092548
CREATED:20260320T150806Z
LAST-MODIFIED:20260320T151507Z
UID:10012814-1777462200-1777462200@oneillcenter.com
SUMMARY:Chair Exercise
DESCRIPTION:
URL:https://oneillcenter.com/event/chair-exercise-777/
CATEGORIES:Belpre
END:VEVENT
BEGIN:VEVENT
DTSTART;TZID=America/New_York:20260429T130000
DTEND;TZID=America/New_York:20260429T130000
DTSTAMP:20260425T092548
CREATED:20260320T150904Z
LAST-MODIFIED:20260320T151508Z
UID:10012815-1777467600-1777467600@oneillcenter.com
SUMMARY:Chair Volleyball
DESCRIPTION:
URL:https://oneillcenter.com/event/chair-volleyball-717/
CATEGORIES:Belpre
END:VEVENT
BEGIN:VEVENT
DTSTART;TZID=America/New_York:20260429T173000
DTEND;TZID=America/New_York:20260429T173000
DTSTAMP:20260425T092548
CREATED:20260320T150905Z
LAST-MODIFIED:20260320T151508Z
UID:10012816-1777483800-1777483800@oneillcenter.com
SUMMARY:Low Impact Aerobics
DESCRIPTION:
URL:https://oneillcenter.com/event/low-impact-aerobics-524/
CATEGORIES:Belpre
END:VEVENT
BEGIN:VEVENT
DTSTART;TZID=America/New_York:20260430T103000
DTEND;TZID=America/New_York:20260430T103000
DTSTAMP:20260425T092548
CREATED:20260320T150905Z
LAST-MODIFIED:20260320T151509Z
UID:10012817-1777545000-1777545000@oneillcenter.com
SUMMARY:Kentucky Derby Party/Belpre Landing/Buckeye Hospice
DESCRIPTION:
URL:https://oneillcenter.com/event/kentucky-derby-party-belpre-landing-buckeye-hospice/
CATEGORIES:Belpre
END:VEVENT
BEGIN:VEVENT
DTSTART;TZID=America/New_York:20260430T114500
DTEND;TZID=America/New_York:20260430T114500
DTSTAMP:20260425T092548
CREATED:20260320T150906Z
LAST-MODIFIED:20260320T151509Z
UID:10012818-1777549500-1777549500@oneillcenter.com
SUMMARY:Lunch
DESCRIPTION:
URL:https://oneillcenter.com/event/lunch-310/
CATEGORIES:Belpre
END:VEVENT
BEGIN:VEVENT
DTSTART;TZID=America/New_York:20260430T124500
DTEND;TZID=America/New_York:20260430T124500
DTSTAMP:20260425T092548
CREATED:20260320T150906Z
LAST-MODIFIED:20260320T151537Z
UID:10012819-1777553100-1777553100@oneillcenter.com
SUMMARY:Cards/Games
DESCRIPTION:
URL:https://oneillcenter.com/event/cards-games-351/
CATEGORIES:Belpre
END:VEVENT
BEGIN:VEVENT
DTSTART;TZID=America/New_York:20260430T150000
DTEND;TZID=America/New_York:20260430T150000
DTSTAMP:20260425T092548
CREATED:20260320T151005Z
LAST-MODIFIED:20260320T151538Z
UID:10012820-1777561200-1777561200@oneillcenter.com
SUMMARY:Line Dancing
DESCRIPTION:
URL:https://oneillcenter.com/event/line-dancing-158/
CATEGORIES:Belpre
END:VEVENT
BEGIN:VEVENT
DTSTART;TZID=America/New_York:20260501T100000
DTEND;TZID=America/New_York:20260501T100000
DTSTAMP:20260425T092548
CREATED:20260424T124515Z
LAST-MODIFIED:20260424T124515Z
UID:10013031-1777629600-1777629600@oneillcenter.com
SUMMARY:Low Impact Aerobics
DESCRIPTION:
URL:https://oneillcenter.com/event/low-impact-aerobics-525/
CATEGORIES:Belpre
END:VEVENT
BEGIN:VEVENT
DTSTART;TZID=America/New_York:20260501T110000
DTEND;TZID=America/New_York:20260501T110000
DTSTAMP:20260425T092548
CREATED:20260424T124516Z
LAST-MODIFIED:20260424T124516Z
UID:10013032-1777633200-1777633200@oneillcenter.com
SUMMARY:Cooking With Chaz
DESCRIPTION:
URL:https://oneillcenter.com/event/cooking-with-chaz-2/
CATEGORIES:Belpre
END:VEVENT
BEGIN:VEVENT
DTSTART;TZID=America/New_York:20260501T113000
DTEND;TZID=America/New_York:20260501T113000
DTSTAMP:20260425T092548
CREATED:20260424T124516Z
LAST-MODIFIED:20260424T124516Z
UID:10013033-1777635000-1777635000@oneillcenter.com
SUMMARY:Chair EXERCISE
DESCRIPTION:
URL:https://oneillcenter.com/event/chair-exercise-794/
CATEGORIES:Belpre
END:VEVENT
BEGIN:VEVENT
DTSTART;TZID=America/New_York:20260501T130000
DTEND;TZID=America/New_York:20260501T130000
DTSTAMP:20260425T092548
CREATED:20260424T124517Z
LAST-MODIFIED:20260424T124517Z
UID:10013034-1777640400-1777640400@oneillcenter.com
SUMMARY:Chair Volleyball
DESCRIPTION:
URL:https://oneillcenter.com/event/chair-volleyball-730/
CATEGORIES:Belpre
END:VEVENT
BEGIN:VEVENT
DTSTART;TZID=America/New_York:20260504T110000
DTEND;TZID=America/New_York:20260504T110000
DTSTAMP:20260425T092548
CREATED:20260424T124517Z
LAST-MODIFIED:20260424T124517Z
UID:10013035-1777892400-1777892400@oneillcenter.com
SUMMARY:Chair Weightlifting
DESCRIPTION:
URL:https://oneillcenter.com/event/chair-weightlifting-131/
CATEGORIES:Belpre
END:VEVENT
BEGIN:VEVENT
DTSTART;TZID=America/New_York:20260504T113000
DTEND;TZID=America/New_York:20260504T113000
DTSTAMP:20260425T092548
CREATED:20260424T124519Z
LAST-MODIFIED:20260424T124519Z
UID:10013036-1777894200-1777894200@oneillcenter.com
SUMMARY:Chair EXERCISE
DESCRIPTION:
URL:https://oneillcenter.com/event/chair-exercise-795/
CATEGORIES:Belpre
END:VEVENT
BEGIN:VEVENT
DTSTART;TZID=America/New_York:20260504T130000
DTEND;TZID=America/New_York:20260504T130000
DTSTAMP:20260425T092548
CREATED:20260424T124519Z
LAST-MODIFIED:20260424T124519Z
UID:10013037-1777899600-1777899600@oneillcenter.com
SUMMARY:Chair Volleyball
DESCRIPTION:
URL:https://oneillcenter.com/event/chair-volleyball-731/
CATEGORIES:Belpre
END:VEVENT
BEGIN:VEVENT
DTSTART;TZID=America/New_York:20260504T173000
DTEND;TZID=America/New_York:20260504T173000
DTSTAMP:20260425T092548
CREATED:20260424T124520Z
LAST-MODIFIED:20260424T124520Z
UID:10013038-1777915800-1777915800@oneillcenter.com
SUMMARY:Low Impact Aerobics
DESCRIPTION:
URL:https://oneillcenter.com/event/low-impact-aerobics-526/
CATEGORIES:Belpre
END:VEVENT
BEGIN:VEVENT
DTSTART;TZID=America/New_York:20260505T110000
DTEND;TZID=America/New_York:20260505T110000
DTSTAMP:20260425T092548
CREATED:20260424T124520Z
LAST-MODIFIED:20260424T124520Z
UID:10013039-1777978800-1777978800@oneillcenter.com
SUMMARY:Cinco DeMayo Party (Waterview Pointe)
DESCRIPTION:
URL:https://oneillcenter.com/event/cinco-demayo-party-waterview-pointe/
CATEGORIES:Belpre
END:VEVENT
BEGIN:VEVENT
DTSTART;TZID=America/New_York:20260505T114500
DTEND;TZID=America/New_York:20260505T114500
DTSTAMP:20260425T092548
CREATED:20260424T124521Z
LAST-MODIFIED:20260424T124521Z
UID:10013040-1777981500-1777981500@oneillcenter.com
SUMMARY:Lunch/Taco Bar
DESCRIPTION:
URL:https://oneillcenter.com/event/lunch-taco-bar/
CATEGORIES:Belpre
END:VEVENT
BEGIN:VEVENT
DTSTART;TZID=America/New_York:20260505T124500
DTEND;TZID=America/New_York:20260505T124500
DTSTAMP:20260425T092548
CREATED:20260424T124534Z
LAST-MODIFIED:20260424T124534Z
UID:10013041-1777985100-1777985100@oneillcenter.com
SUMMARY:Cards/Games
DESCRIPTION:
URL:https://oneillcenter.com/event/cards-games-352/
CATEGORIES:Belpre
END:VEVENT
BEGIN:VEVENT
DTSTART;TZID=America/New_York:20260505T190000
DTEND;TZID=America/New_York:20260505T190000
DTSTAMP:20260425T092548
CREATED:20260424T124534Z
LAST-MODIFIED:20260424T124534Z
UID:10013042-1778007600-1778007600@oneillcenter.com
SUMMARY:Western Square Dancing
DESCRIPTION:
URL:https://oneillcenter.com/event/western-square-dancing-97/
CATEGORIES:Belpre
END:VEVENT
BEGIN:VEVENT
DTSTART;TZID=America/New_York:20260506T110000
DTEND;TZID=America/New_York:20260506T110000
DTSTAMP:20260425T092548
CREATED:20260424T124535Z
LAST-MODIFIED:20260424T124535Z
UID:10013043-1778065200-1778065200@oneillcenter.com
SUMMARY:Chair Weightlifting
DESCRIPTION:
URL:https://oneillcenter.com/event/chair-weightlifting-132/
CATEGORIES:Belpre
END:VEVENT
BEGIN:VEVENT
DTSTART;TZID=America/New_York:20260506T113000
DTEND;TZID=America/New_York:20260506T113000
DTSTAMP:20260425T092548
CREATED:20260424T124535Z
LAST-MODIFIED:20260424T124535Z
UID:10013044-1778067000-1778067000@oneillcenter.com
SUMMARY:Chair EXERCISE
DESCRIPTION:
URL:https://oneillcenter.com/event/chair-exercise-796/
CATEGORIES:Belpre
END:VEVENT
BEGIN:VEVENT
DTSTART;TZID=America/New_York:20260506T130000
DTEND;TZID=America/New_York:20260506T130000
DTSTAMP:20260425T092548
CREATED:20260424T124536Z
LAST-MODIFIED:20260424T124536Z
UID:10013045-1778072400-1778072400@oneillcenter.com
SUMMARY:Chair Volleyball
DESCRIPTION:
URL:https://oneillcenter.com/event/chair-volleyball-732/
CATEGORIES:Belpre
END:VEVENT
BEGIN:VEVENT
DTSTART;TZID=America/New_York:20260506T173000
DTEND;TZID=America/New_York:20260506T173000
DTSTAMP:20260425T092548
CREATED:20260424T124552Z
LAST-MODIFIED:20260424T124552Z
UID:10013046-1778088600-1778088600@oneillcenter.com
SUMMARY:Low Impact Aerobics
DESCRIPTION:
URL:https://oneillcenter.com/event/low-impact-aerobics-527/
CATEGORIES:Belpre
END:VEVENT
BEGIN:VEVENT
DTSTART;TZID=America/New_York:20260507T100000
DTEND;TZID=America/New_York:20260507T100000
DTSTAMP:20260425T092548
CREATED:20260424T124552Z
LAST-MODIFIED:20260424T124552Z
UID:10013047-1778148000-1778148000@oneillcenter.com
SUMMARY:Nickel Bingo
DESCRIPTION:
URL:https://oneillcenter.com/event/nickel-bingo-176/
CATEGORIES:Belpre
END:VEVENT
BEGIN:VEVENT
DTSTART;TZID=America/New_York:20260507T114500
DTEND;TZID=America/New_York:20260507T114500
DTSTAMP:20260425T092548
CREATED:20260424T124553Z
LAST-MODIFIED:20260424T124553Z
UID:10013048-1778154300-1778154300@oneillcenter.com
SUMMARY:Lunch
DESCRIPTION:
URL:https://oneillcenter.com/event/lunch-311/
CATEGORIES:Belpre
END:VEVENT
BEGIN:VEVENT
DTSTART;TZID=America/New_York:20260507T124500
DTEND;TZID=America/New_York:20260507T124500
DTSTAMP:20260425T092548
CREATED:20260424T124553Z
LAST-MODIFIED:20260424T124553Z
UID:10013049-1778157900-1778157900@oneillcenter.com
SUMMARY:Cards/Games
DESCRIPTION:
URL:https://oneillcenter.com/event/cards-games-353/
CATEGORIES:Belpre
END:VEVENT
BEGIN:VEVENT
DTSTART;TZID=America/New_York:20260507T150000
DTEND;TZID=America/New_York:20260507T150000
DTSTAMP:20260425T092548
CREATED:20260424T124553Z
LAST-MODIFIED:20260424T124553Z
UID:10013050-1778166000-1778166000@oneillcenter.com
SUMMARY:Line Dancing
DESCRIPTION:
URL:https://oneillcenter.com/event/line-dancing-159/
CATEGORIES:Belpre
END:VEVENT
BEGIN:VEVENT
DTSTART;TZID=America/New_York:20260507T180000
DTEND;TZID=America/New_York:20260507T180000
DTSTAMP:20260425T092548
CREATED:20260424T124604Z
LAST-MODIFIED:20260424T130505Z
UID:10013051-1778176800-1778176800@oneillcenter.com
SUMMARY:Gem Society Meeting
DESCRIPTION:
URL:https://oneillcenter.com/event/gem-society-meeting-13/
CATEGORIES:Belpre
END:VEVENT
BEGIN:VEVENT
DTSTART;TZID=America/New_York:20260508T100000
DTEND;TZID=America/New_York:20260508T100000
DTSTAMP:20260425T092548
CREATED:20260424T124604Z
LAST-MODIFIED:20260424T130505Z
UID:10013052-1778234400-1778234400@oneillcenter.com
SUMMARY:Low Impact Aerobics
DESCRIPTION:
URL:https://oneillcenter.com/event/low-impact-aerobics-528/
CATEGORIES:Belpre
END:VEVENT
END:VCALENDAR