BEGIN:VCALENDAR
VERSION:2.0
PRODID:-//ONeill Center - ECPv6.15.20//NONSGML v1.0//EN
CALSCALE:GREGORIAN
METHOD:PUBLISH
X-ORIGINAL-URL:https://oneillcenter.com
X-WR-CALDESC:Events for ONeill Center
REFRESH-INTERVAL;VALUE=DURATION:PT1H
X-Robots-Tag:noindex
X-PUBLISHED-TTL:PT1H
BEGIN:VTIMEZONE
TZID:America/New_York
BEGIN:DAYLIGHT
TZOFFSETFROM:-0500
TZOFFSETTO:-0400
TZNAME:EDT
DTSTART:20250309T070000
END:DAYLIGHT
BEGIN:STANDARD
TZOFFSETFROM:-0400
TZOFFSETTO:-0500
TZNAME:EST
DTSTART:20251102T060000
END:STANDARD
BEGIN:DAYLIGHT
TZOFFSETFROM:-0500
TZOFFSETTO:-0400
TZNAME:EDT
DTSTART:20260308T070000
END:DAYLIGHT
BEGIN:STANDARD
TZOFFSETFROM:-0400
TZOFFSETTO:-0500
TZNAME:EST
DTSTART:20261101T060000
END:STANDARD
BEGIN:DAYLIGHT
TZOFFSETFROM:-0500
TZOFFSETTO:-0400
TZNAME:EDT
DTSTART:20270314T070000
END:DAYLIGHT
BEGIN:STANDARD
TZOFFSETFROM:-0400
TZOFFSETTO:-0500
TZNAME:EST
DTSTART:20271107T060000
END:STANDARD
END:VTIMEZONE
BEGIN:VEVENT
DTSTART;TZID=America/New_York:20260520T130000
DTEND;TZID=America/New_York:20260520T130000
DTSTAMP:20260425T124714
CREATED:20260424T125104Z
LAST-MODIFIED:20260424T130542Z
UID:10013086-1779282000-1779282000@oneillcenter.com
SUMMARY:Chair Volleyball
DESCRIPTION:
URL:https://oneillcenter.com/event/chair-volleyball-738/
CATEGORIES:Belpre
END:VEVENT
BEGIN:VEVENT
DTSTART;TZID=America/New_York:20260520T173000
DTEND;TZID=America/New_York:20260520T173000
DTSTAMP:20260425T124714
CREATED:20260424T125105Z
LAST-MODIFIED:20260424T130542Z
UID:10013087-1779298200-1779298200@oneillcenter.com
SUMMARY:Low Impact Aerobics
DESCRIPTION:
URL:https://oneillcenter.com/event/low-impact-aerobics-533/
CATEGORIES:Belpre
END:VEVENT
BEGIN:VEVENT
DTSTART;TZID=America/New_York:20260521T100000
DTEND;TZID=America/New_York:20260521T100000
DTSTAMP:20260425T124714
CREATED:20260424T125105Z
LAST-MODIFIED:20260424T130543Z
UID:10013088-1779357600-1779357600@oneillcenter.com
SUMMARY:Nickel Bingo
DESCRIPTION:
URL:https://oneillcenter.com/event/nickel-bingo-178/
CATEGORIES:Belpre
END:VEVENT
BEGIN:VEVENT
DTSTART;TZID=America/New_York:20260521T114500
DTEND;TZID=America/New_York:20260521T114500
DTSTAMP:20260425T124714
CREATED:20260424T125105Z
LAST-MODIFIED:20260424T130543Z
UID:10013089-1779363900-1779363900@oneillcenter.com
SUMMARY:Lunch
DESCRIPTION:
URL:https://oneillcenter.com/event/lunch-315/
CATEGORIES:Belpre
END:VEVENT
BEGIN:VEVENT
DTSTART;TZID=America/New_York:20260521T124500
DTEND;TZID=America/New_York:20260521T124500
DTSTAMP:20260425T124714
CREATED:20260424T125106Z
LAST-MODIFIED:20260424T130544Z
UID:10013090-1779367500-1779367500@oneillcenter.com
SUMMARY:Cards/Games
DESCRIPTION:
URL:https://oneillcenter.com/event/cards-games-357/
CATEGORIES:Belpre
END:VEVENT
BEGIN:VEVENT
DTSTART;TZID=America/New_York:20260521T150000
DTEND;TZID=America/New_York:20260521T150000
DTSTAMP:20260425T124714
CREATED:20260424T125152Z
LAST-MODIFIED:20260424T125152Z
UID:10013091-1779375600-1779375600@oneillcenter.com
SUMMARY:Line Dancing
DESCRIPTION:
URL:https://oneillcenter.com/event/line-dancing-161/
CATEGORIES:Belpre
END:VEVENT
BEGIN:VEVENT
DTSTART;TZID=America/New_York:20260522T100000
DTEND;TZID=America/New_York:20260522T100000
DTSTAMP:20260425T124714
CREATED:20260424T125153Z
LAST-MODIFIED:20260424T125153Z
UID:10013092-1779444000-1779444000@oneillcenter.com
SUMMARY:Low Impact Aerobics
DESCRIPTION:
URL:https://oneillcenter.com/event/low-impact-aerobics-534/
CATEGORIES:Belpre
END:VEVENT
BEGIN:VEVENT
DTSTART;TZID=America/New_York:20260522T113000
DTEND;TZID=America/New_York:20260522T113000
DTSTAMP:20260425T124714
CREATED:20260424T125153Z
LAST-MODIFIED:20260424T125153Z
UID:10013093-1779449400-1779449400@oneillcenter.com
SUMMARY:Chair EXERCISE
DESCRIPTION:
URL:https://oneillcenter.com/event/chair-exercise-803/
CATEGORIES:Belpre
END:VEVENT
BEGIN:VEVENT
DTSTART;TZID=America/New_York:20260522T130000
DTEND;TZID=America/New_York:20260522T130000
DTSTAMP:20260425T124714
CREATED:20260424T125153Z
LAST-MODIFIED:20260424T125153Z
UID:10013094-1779454800-1779454800@oneillcenter.com
SUMMARY:Chair Volleyball
DESCRIPTION:
URL:https://oneillcenter.com/event/chair-volleyball-739/
CATEGORIES:Belpre
END:VEVENT
BEGIN:VEVENT
DTSTART;TZID=America/New_York:20260526T100000
DTEND;TZID=America/New_York:20260526T100000
DTSTAMP:20260425T124714
CREATED:20260424T125154Z
LAST-MODIFIED:20260424T125154Z
UID:10013095-1779789600-1779789600@oneillcenter.com
SUMMARY:Nickel Bingo
DESCRIPTION:
URL:https://oneillcenter.com/event/nickel-bingo-179/
CATEGORIES:Belpre
END:VEVENT
BEGIN:VEVENT
DTSTART;TZID=America/New_York:20260526T114500
DTEND;TZID=America/New_York:20260526T114500
DTSTAMP:20260425T124714
CREATED:20260424T125203Z
LAST-MODIFIED:20260424T130544Z
UID:10013096-1779795900-1779795900@oneillcenter.com
SUMMARY:Lunch
DESCRIPTION:
URL:https://oneillcenter.com/event/lunch-316/
CATEGORIES:Belpre
END:VEVENT
BEGIN:VEVENT
DTSTART;TZID=America/New_York:20260526T124500
DTEND;TZID=America/New_York:20260526T124500
DTSTAMP:20260425T124714
CREATED:20260424T125204Z
LAST-MODIFIED:20260424T130545Z
UID:10013097-1779799500-1779799500@oneillcenter.com
SUMMARY:Cards/Games
DESCRIPTION:
URL:https://oneillcenter.com/event/cards-games-358/
CATEGORIES:Belpre
END:VEVENT
BEGIN:VEVENT
DTSTART;TZID=America/New_York:20260526T190000
DTEND;TZID=America/New_York:20260526T190000
DTSTAMP:20260425T124714
CREATED:20260424T125204Z
LAST-MODIFIED:20260424T130545Z
UID:10013098-1779822000-1779822000@oneillcenter.com
SUMMARY:Western Square Dancing
DESCRIPTION:
URL:https://oneillcenter.com/event/western-square-dancing-100/
CATEGORIES:Belpre
END:VEVENT
BEGIN:VEVENT
DTSTART;TZID=America/New_York:20260527T110000
DTEND;TZID=America/New_York:20260527T110000
DTSTAMP:20260425T124714
CREATED:20260424T125205Z
LAST-MODIFIED:20260424T130546Z
UID:10013099-1779879600-1779879600@oneillcenter.com
SUMMARY:Chair Weightlifting
DESCRIPTION:
URL:https://oneillcenter.com/event/chair-weightlifting-137/
CATEGORIES:Belpre
END:VEVENT
BEGIN:VEVENT
DTSTART;TZID=America/New_York:20260527T113000
DTEND;TZID=America/New_York:20260527T113000
DTSTAMP:20260425T124714
CREATED:20260424T125205Z
LAST-MODIFIED:20260424T130546Z
UID:10013100-1779881400-1779881400@oneillcenter.com
SUMMARY:Chair EXERCISE
DESCRIPTION:
URL:https://oneillcenter.com/event/chair-exercise-804/
CATEGORIES:Belpre
END:VEVENT
BEGIN:VEVENT
DTSTART;TZID=America/New_York:20260527T130000
DTEND;TZID=America/New_York:20260527T130000
DTSTAMP:20260425T124714
CREATED:20260424T125304Z
LAST-MODIFIED:20260424T130547Z
UID:10013101-1779886800-1779886800@oneillcenter.com
SUMMARY:Chair Volleyball
DESCRIPTION:
URL:https://oneillcenter.com/event/chair-volleyball-740/
CATEGORIES:Belpre
END:VEVENT
BEGIN:VEVENT
DTSTART;TZID=America/New_York:20260527T173000
DTEND;TZID=America/New_York:20260527T173000
DTSTAMP:20260425T124714
CREATED:20260424T125304Z
LAST-MODIFIED:20260424T130605Z
UID:10013102-1779903000-1779903000@oneillcenter.com
SUMMARY:Low Impact Aerobics
DESCRIPTION:
URL:https://oneillcenter.com/event/low-impact-aerobics-535/
CATEGORIES:Belpre
END:VEVENT
BEGIN:VEVENT
DTSTART;TZID=America/New_York:20260528T110000
DTEND;TZID=America/New_York:20260528T110000
DTSTAMP:20260425T124714
CREATED:20260424T125305Z
LAST-MODIFIED:20260424T130606Z
UID:10013103-1779966000-1779966000@oneillcenter.com
SUMMARY:Lunch & Learn/Encompass Health/Stoke Awareness
DESCRIPTION:
URL:https://oneillcenter.com/event/lunch-learn-encompass-health-stoke-awareness/
CATEGORIES:Belpre
END:VEVENT
BEGIN:VEVENT
DTSTART;TZID=America/New_York:20260528T114500
DTEND;TZID=America/New_York:20260528T114500
DTSTAMP:20260425T124714
CREATED:20260424T125305Z
LAST-MODIFIED:20260424T130606Z
UID:10013104-1779968700-1779968700@oneillcenter.com
SUMMARY:Lunch
DESCRIPTION:
URL:https://oneillcenter.com/event/lunch-317/
CATEGORIES:Belpre
END:VEVENT
BEGIN:VEVENT
DTSTART;TZID=America/New_York:20260528T124500
DTEND;TZID=America/New_York:20260528T124500
DTSTAMP:20260425T124714
CREATED:20260424T125305Z
LAST-MODIFIED:20260424T130607Z
UID:10013105-1779972300-1779972300@oneillcenter.com
SUMMARY:Cards/Games
DESCRIPTION:
URL:https://oneillcenter.com/event/cards-games-359/
CATEGORIES:Belpre
END:VEVENT
BEGIN:VEVENT
DTSTART;TZID=America/New_York:20260528T150000
DTEND;TZID=America/New_York:20260528T150000
DTSTAMP:20260425T124714
CREATED:20260424T125352Z
LAST-MODIFIED:20260424T125352Z
UID:10013106-1779980400-1779980400@oneillcenter.com
SUMMARY:Line Dancing
DESCRIPTION:
URL:https://oneillcenter.com/event/line-dancing-162/
CATEGORIES:Belpre
END:VEVENT
BEGIN:VEVENT
DTSTART;TZID=America/New_York:20260529T100000
DTEND;TZID=America/New_York:20260529T100000
DTSTAMP:20260425T124714
CREATED:20260424T125353Z
LAST-MODIFIED:20260424T125353Z
UID:10013107-1780048800-1780048800@oneillcenter.com
SUMMARY:Low Impact Aerobics
DESCRIPTION:
URL:https://oneillcenter.com/event/low-impact-aerobics-536/
CATEGORIES:Belpre
END:VEVENT
BEGIN:VEVENT
DTSTART;TZID=America/New_York:20260529T113000
DTEND;TZID=America/New_York:20260529T113000
DTSTAMP:20260425T124714
CREATED:20260424T125353Z
LAST-MODIFIED:20260424T125353Z
UID:10013108-1780054200-1780054200@oneillcenter.com
SUMMARY:Chair EXERCISE
DESCRIPTION:
URL:https://oneillcenter.com/event/chair-exercise-805/
CATEGORIES:Belpre
END:VEVENT
BEGIN:VEVENT
DTSTART;TZID=America/New_York:20260529T130000
DTEND;TZID=America/New_York:20260529T130000
DTSTAMP:20260425T124714
CREATED:20260424T125354Z
LAST-MODIFIED:20260424T125354Z
UID:10013109-1780059600-1780059600@oneillcenter.com
SUMMARY:Chair Volleyball
DESCRIPTION:
URL:https://oneillcenter.com/event/chair-volleyball-741/
CATEGORIES:Belpre
END:VEVENT
END:VCALENDAR