BEGIN:VCALENDAR
VERSION:2.0
PRODID:-//ONeill Center - ECPv6.15.20//NONSGML v1.0//EN
CALSCALE:GREGORIAN
METHOD:PUBLISH
X-WR-CALNAME:ONeill Center
X-ORIGINAL-URL:https://oneillcenter.com
X-WR-CALDESC:Events for ONeill Center
REFRESH-INTERVAL;VALUE=DURATION:PT1H
X-Robots-Tag:noindex
X-PUBLISHED-TTL:PT1H
BEGIN:VTIMEZONE
TZID:America/New_York
BEGIN:DAYLIGHT
TZOFFSETFROM:-0500
TZOFFSETTO:-0400
TZNAME:EDT
DTSTART:20250309T070000
END:DAYLIGHT
BEGIN:STANDARD
TZOFFSETFROM:-0400
TZOFFSETTO:-0500
TZNAME:EST
DTSTART:20251102T060000
END:STANDARD
BEGIN:DAYLIGHT
TZOFFSETFROM:-0500
TZOFFSETTO:-0400
TZNAME:EDT
DTSTART:20260308T070000
END:DAYLIGHT
BEGIN:STANDARD
TZOFFSETFROM:-0400
TZOFFSETTO:-0500
TZNAME:EST
DTSTART:20261101T060000
END:STANDARD
BEGIN:DAYLIGHT
TZOFFSETFROM:-0500
TZOFFSETTO:-0400
TZNAME:EDT
DTSTART:20270314T070000
END:DAYLIGHT
BEGIN:STANDARD
TZOFFSETFROM:-0400
TZOFFSETTO:-0500
TZNAME:EST
DTSTART:20271107T060000
END:STANDARD
END:VTIMEZONE
BEGIN:VEVENT
DTSTART;TZID=America/New_York:20260508T100000
DTEND;TZID=America/New_York:20260508T100000
DTSTAMP:20260425T090607
CREATED:20260424T124604Z
LAST-MODIFIED:20260424T130505Z
UID:10013052-1778234400-1778234400@oneillcenter.com
SUMMARY:Low Impact Aerobics
DESCRIPTION:
URL:https://oneillcenter.com/event/low-impact-aerobics-528/
CATEGORIES:Belpre
END:VEVENT
BEGIN:VEVENT
DTSTART;TZID=America/New_York:20260508T113000
DTEND;TZID=America/New_York:20260508T113000
DTSTAMP:20260425T090607
CREATED:20260424T124605Z
LAST-MODIFIED:20260424T130506Z
UID:10013053-1778239800-1778239800@oneillcenter.com
SUMMARY:Chair EXERCISE
DESCRIPTION:
URL:https://oneillcenter.com/event/chair-exercise-797/
CATEGORIES:Belpre
END:VEVENT
BEGIN:VEVENT
DTSTART;TZID=America/New_York:20260508T130000
DTEND;TZID=America/New_York:20260508T130000
DTSTAMP:20260425T090607
CREATED:20260424T124605Z
LAST-MODIFIED:20260424T130506Z
UID:10013054-1778245200-1778245200@oneillcenter.com
SUMMARY:Chair Volleyball
DESCRIPTION:
URL:https://oneillcenter.com/event/chair-volleyball-733/
CATEGORIES:Belpre
END:VEVENT
BEGIN:VEVENT
DTSTART;TZID=America/New_York:20260511T110000
DTEND;TZID=America/New_York:20260511T110000
DTSTAMP:20260425T090607
CREATED:20260424T124605Z
LAST-MODIFIED:20260424T130507Z
UID:10013055-1778497200-1778497200@oneillcenter.com
SUMMARY:Chair Weightlifting
DESCRIPTION:
URL:https://oneillcenter.com/event/chair-weightlifting-133/
CATEGORIES:Belpre
END:VEVENT
BEGIN:VEVENT
DTSTART;TZID=America/New_York:20260511T113000
DTEND;TZID=America/New_York:20260511T113000
DTSTAMP:20260425T090607
CREATED:20260424T124704Z
LAST-MODIFIED:20260424T130507Z
UID:10013056-1778499000-1778499000@oneillcenter.com
SUMMARY:Chair EXERCISE
DESCRIPTION:
URL:https://oneillcenter.com/event/chair-exercise-798/
CATEGORIES:Belpre
END:VEVENT
BEGIN:VEVENT
DTSTART;TZID=America/New_York:20260511T130000
DTEND;TZID=America/New_York:20260511T130000
DTSTAMP:20260425T090607
CREATED:20260424T124705Z
LAST-MODIFIED:20260424T130508Z
UID:10013057-1778504400-1778504400@oneillcenter.com
SUMMARY:Chair Volleyball
DESCRIPTION:
URL:https://oneillcenter.com/event/chair-volleyball-734/
CATEGORIES:Belpre
END:VEVENT
BEGIN:VEVENT
DTSTART;TZID=America/New_York:20260511T173000
DTEND;TZID=America/New_York:20260511T173000
DTSTAMP:20260425T090607
CREATED:20260424T124705Z
LAST-MODIFIED:20260424T130508Z
UID:10013058-1778520600-1778520600@oneillcenter.com
SUMMARY:Low Impact Aerobics
DESCRIPTION:
URL:https://oneillcenter.com/event/low-impact-aerobics-529/
CATEGORIES:Belpre
END:VEVENT
BEGIN:VEVENT
DTSTART;TZID=America/New_York:20260512T100000
DTEND;TZID=America/New_York:20260512T100000
DTSTAMP:20260425T090607
CREATED:20260424T124706Z
LAST-MODIFIED:20260424T130509Z
UID:10013059-1778580000-1778580000@oneillcenter.com
SUMMARY:Nickel Bingo
DESCRIPTION:
URL:https://oneillcenter.com/event/nickel-bingo-177/
CATEGORIES:Belpre
END:VEVENT
BEGIN:VEVENT
DTSTART;TZID=America/New_York:20260512T114500
DTEND;TZID=America/New_York:20260512T114500
DTSTAMP:20260425T090607
CREATED:20260424T124706Z
LAST-MODIFIED:20260424T130509Z
UID:10013060-1778586300-1778586300@oneillcenter.com
SUMMARY:Lunch
DESCRIPTION:
URL:https://oneillcenter.com/event/lunch-312/
CATEGORIES:Belpre
END:VEVENT
BEGIN:VEVENT
DTSTART;TZID=America/New_York:20260512T124500
DTEND;TZID=America/New_York:20260512T124500
DTSTAMP:20260425T090607
CREATED:20260424T124752Z
LAST-MODIFIED:20260424T124752Z
UID:10013061-1778589900-1778589900@oneillcenter.com
SUMMARY:Cards/Games
DESCRIPTION:
URL:https://oneillcenter.com/event/cards-games-354/
CATEGORIES:Belpre
END:VEVENT
BEGIN:VEVENT
DTSTART;TZID=America/New_York:20260512T190000
DTEND;TZID=America/New_York:20260512T190000
DTSTAMP:20260425T090607
CREATED:20260424T124752Z
LAST-MODIFIED:20260424T124752Z
UID:10013062-1778612400-1778612400@oneillcenter.com
SUMMARY:Western Square Dancing
DESCRIPTION:
URL:https://oneillcenter.com/event/western-square-dancing-98/
CATEGORIES:Belpre
END:VEVENT
BEGIN:VEVENT
DTSTART;TZID=America/New_York:20260513T110000
DTEND;TZID=America/New_York:20260513T110000
DTSTAMP:20260425T090607
CREATED:20260424T124753Z
LAST-MODIFIED:20260424T124753Z
UID:10013063-1778670000-1778670000@oneillcenter.com
SUMMARY:Chair Weightlifting
DESCRIPTION:
URL:https://oneillcenter.com/event/chair-weightlifting-134/
CATEGORIES:Belpre
END:VEVENT
BEGIN:VEVENT
DTSTART;TZID=America/New_York:20260513T113000
DTEND;TZID=America/New_York:20260513T113000
DTSTAMP:20260425T090607
CREATED:20260424T124753Z
LAST-MODIFIED:20260424T124753Z
UID:10013064-1778671800-1778671800@oneillcenter.com
SUMMARY:Chair EXERCISE
DESCRIPTION:
URL:https://oneillcenter.com/event/chair-exercise-799/
CATEGORIES:Belpre
END:VEVENT
BEGIN:VEVENT
DTSTART;TZID=America/New_York:20260513T130000
DTEND;TZID=America/New_York:20260513T130000
DTSTAMP:20260425T090607
CREATED:20260424T124754Z
LAST-MODIFIED:20260424T124754Z
UID:10013065-1778677200-1778677200@oneillcenter.com
SUMMARY:Chair Volleyball
DESCRIPTION:
URL:https://oneillcenter.com/event/chair-volleyball-735/
CATEGORIES:Belpre
END:VEVENT
BEGIN:VEVENT
DTSTART;TZID=America/New_York:20260513T173000
DTEND;TZID=America/New_York:20260513T173000
DTSTAMP:20260425T090607
CREATED:20260424T124804Z
LAST-MODIFIED:20260424T130510Z
UID:10013066-1778693400-1778693400@oneillcenter.com
SUMMARY:Low Impact Aerobics
DESCRIPTION:
URL:https://oneillcenter.com/event/low-impact-aerobics-530/
CATEGORIES:Belpre
END:VEVENT
BEGIN:VEVENT
DTSTART;TZID=America/New_York:20260514T110000
DTEND;TZID=America/New_York:20260514T110000
DTSTAMP:20260425T090607
CREATED:20260424T124804Z
LAST-MODIFIED:20260424T130510Z
UID:10013067-1778756400-1778756400@oneillcenter.com
SUMMARY:Dessert/Waterview Pointe *Dance Like A Chicken Day*
DESCRIPTION:
URL:https://oneillcenter.com/event/dessert-waterview-pointe-dance-like-a-chicken-day/
CATEGORIES:Belpre
END:VEVENT
BEGIN:VEVENT
DTSTART;TZID=America/New_York:20260514T114500
DTEND;TZID=America/New_York:20260514T114500
DTSTAMP:20260425T090607
CREATED:20260424T124804Z
LAST-MODIFIED:20260424T130511Z
UID:10013068-1778759100-1778759100@oneillcenter.com
SUMMARY:Lunch
DESCRIPTION:
URL:https://oneillcenter.com/event/lunch-313/
CATEGORIES:Belpre
END:VEVENT
BEGIN:VEVENT
DTSTART;TZID=America/New_York:20260514T124500
DTEND;TZID=America/New_York:20260514T124500
DTSTAMP:20260425T090607
CREATED:20260424T124805Z
LAST-MODIFIED:20260424T130511Z
UID:10013069-1778762700-1778762700@oneillcenter.com
SUMMARY:Cards/Games
DESCRIPTION:
URL:https://oneillcenter.com/event/cards-games-355/
CATEGORIES:Belpre
END:VEVENT
BEGIN:VEVENT
DTSTART;TZID=America/New_York:20260514T150000
DTEND;TZID=America/New_York:20260514T150000
DTSTAMP:20260425T090607
CREATED:20260424T124805Z
LAST-MODIFIED:20260424T130512Z
UID:10013070-1778770800-1778770800@oneillcenter.com
SUMMARY:Line Dancing
DESCRIPTION:
URL:https://oneillcenter.com/event/line-dancing-160/
CATEGORIES:Belpre
END:VEVENT
BEGIN:VEVENT
DTSTART;TZID=America/New_York:20260515T100000
DTEND;TZID=America/New_York:20260515T100000
DTSTAMP:20260425T090607
CREATED:20260424T124904Z
LAST-MODIFIED:20260424T130512Z
UID:10013071-1778839200-1778839200@oneillcenter.com
SUMMARY:Low Impact Aerobics
DESCRIPTION:
URL:https://oneillcenter.com/event/low-impact-aerobics-531/
CATEGORIES:Belpre
END:VEVENT
BEGIN:VEVENT
DTSTART;TZID=America/New_York:20260515T113000
DTEND;TZID=America/New_York:20260515T113000
DTSTAMP:20260425T090607
CREATED:20260424T124904Z
LAST-MODIFIED:20260424T130513Z
UID:10013072-1778844600-1778844600@oneillcenter.com
SUMMARY:Chair EXERCISE
DESCRIPTION:
URL:https://oneillcenter.com/event/chair-exercise-800/
CATEGORIES:Belpre
END:VEVENT
BEGIN:VEVENT
DTSTART;TZID=America/New_York:20260515T130000
DTEND;TZID=America/New_York:20260515T130000
DTSTAMP:20260425T090607
CREATED:20260424T124905Z
LAST-MODIFIED:20260424T130513Z
UID:10013073-1778850000-1778850000@oneillcenter.com
SUMMARY:Chair Volleyball
DESCRIPTION:
URL:https://oneillcenter.com/event/chair-volleyball-736/
CATEGORIES:Belpre
END:VEVENT
BEGIN:VEVENT
DTSTART;TZID=America/New_York:20260518T100000
DTEND;TZID=America/New_York:20260518T100000
DTSTAMP:20260425T090607
CREATED:20260424T124905Z
LAST-MODIFIED:20260424T130538Z
UID:10013074-1779098400-1779098400@oneillcenter.com
SUMMARY:Kraft With Kyla (Waterview Pointe)
DESCRIPTION:
URL:https://oneillcenter.com/event/kraft-with-kyla-waterview-pointe-2/
CATEGORIES:Belpre
END:VEVENT
BEGIN:VEVENT
DTSTART;TZID=America/New_York:20260518T110000
DTEND;TZID=America/New_York:20260518T110000
DTSTAMP:20260425T090607
CREATED:20260424T124905Z
LAST-MODIFIED:20260424T130539Z
UID:10013075-1779102000-1779102000@oneillcenter.com
SUMMARY:Chair Weightlifting
DESCRIPTION:
URL:https://oneillcenter.com/event/chair-weightlifting-135/
CATEGORIES:Belpre
END:VEVENT
BEGIN:VEVENT
DTSTART;TZID=America/New_York:20260518T113000
DTEND;TZID=America/New_York:20260518T113000
DTSTAMP:20260425T090607
CREATED:20260424T124952Z
LAST-MODIFIED:20260424T124952Z
UID:10013076-1779103800-1779103800@oneillcenter.com
SUMMARY:Chair EXERCISE
DESCRIPTION:
URL:https://oneillcenter.com/event/chair-exercise-801/
CATEGORIES:Belpre
END:VEVENT
BEGIN:VEVENT
DTSTART;TZID=America/New_York:20260518T130000
DTEND;TZID=America/New_York:20260518T130000
DTSTAMP:20260425T090607
CREATED:20260424T124953Z
LAST-MODIFIED:20260424T124953Z
UID:10013077-1779109200-1779109200@oneillcenter.com
SUMMARY:Chair Volleyball
DESCRIPTION:
URL:https://oneillcenter.com/event/chair-volleyball-737/
CATEGORIES:Belpre
END:VEVENT
BEGIN:VEVENT
DTSTART;TZID=America/New_York:20260518T173000
DTEND;TZID=America/New_York:20260518T173000
DTSTAMP:20260425T090607
CREATED:20260424T124953Z
LAST-MODIFIED:20260424T124953Z
UID:10013078-1779125400-1779125400@oneillcenter.com
SUMMARY:Low Impact Aerobics
DESCRIPTION:
URL:https://oneillcenter.com/event/low-impact-aerobics-532/
CATEGORIES:Belpre
END:VEVENT
BEGIN:VEVENT
DTSTART;TZID=America/New_York:20260519T090000
DTEND;TZID=America/New_York:20260519T090000
DTSTAMP:20260425T090607
CREATED:20260424T124953Z
LAST-MODIFIED:20260424T124953Z
UID:10013079-1779181200-1779181200@oneillcenter.com
SUMMARY:Blood Pressures Housecalls/Robyn
DESCRIPTION:
URL:https://oneillcenter.com/event/blood-pressures-housecalls-robyn-25/
CATEGORIES:Belpre
END:VEVENT
BEGIN:VEVENT
DTSTART;TZID=America/New_York:20260519T110000
DTEND;TZID=America/New_York:20260519T110000
DTSTAMP:20260425T090607
CREATED:20260424T124954Z
LAST-MODIFIED:20260424T124954Z
UID:10013080-1779188400-1779188400@oneillcenter.com
SUMMARY:**Birthday Party** Jeopardy/Averee
DESCRIPTION:
URL:https://oneillcenter.com/event/birthday-party-jeopardy-averee/
CATEGORIES:Belpre
END:VEVENT
BEGIN:VEVENT
DTSTART;TZID=America/New_York:20260519T114500
DTEND;TZID=America/New_York:20260519T114500
DTSTAMP:20260425T090607
CREATED:20260424T125005Z
LAST-MODIFIED:20260424T130539Z
UID:10013081-1779191100-1779191100@oneillcenter.com
SUMMARY:Lunch
DESCRIPTION:
URL:https://oneillcenter.com/event/lunch-314/
CATEGORIES:Belpre
END:VEVENT
END:VCALENDAR